Workbook
Name DIY标签: #REF!
Name 保证领取: OFFSET(个人信息!$AH$24,,,COUNTA(个人信息!$AG$24:$AG$36),1)
Name 定期寿险: OFFSET(家庭概览!$AD$11,,,家庭概览!$S$2,1)
Name 工作标签: #REF!
Name 工作方法: #REF!
Name 过往名称: OFFSET(#REF!,,,COUNT(#REF!),)
Name 矩形X: OFFSET(#REF!,,,COUNT(#REF!),)
Name 矩形Y: OFFSET(#REF!,,,COUNT(#REF!),)
Name 来源标签: #REF!
Name 理财本金: OFFSET(家庭概览!$AG$11,,,家庭概览!$S$2,1)
Name 理财姓名: OFFSET(家庭概览!$AF$11,,,家庭概览!$S$2,1)
Name 领取年龄: OFFSET(个人信息!$AG$24,,,COUNTA(个人信息!$AG$24:$AG$36),1)
Name 模糊保单: 保单录入!$AC$3:INDEX(保单录入!$AC$3:$AC$10000,COUNTA(_xlfn.ANCHORARRAY(保单录入!$AC$3)))
Name 认知标签: #REF!
Name 生活标签: #REF!
Name 寿险总和: OFFSET(家庭概览!$AE$11,,,家庭概览!$S$2,1)
Name 体系1: #REF!
Name 体系2: #REF!
Name 体系3: #REF!
Name 体系4: #REF!
Name 体系5: #REF!
Name 唯一家庭: 保单录入!$AU$3:$AU$2024
Name 唯一姓名: #REF!
Name 姓名: OFFSET(家庭概览!$W$11,,,家庭概览!$S$2,1)
Name 医疗报销: OFFSET(家庭概览!$AK$11,,,家庭概览!$S$2,1)
Name 意外伤害: OFFSET(家庭概览!$Y$11,,,家庭概览!$S$2,1)
Name 意外医疗: OFFSET(家庭概览!$X$11,,,家庭概览!$S$2,1)
Name 预期领取: OFFSET(个人信息!$AI$24,,,COUNTA(个人信息!$AG$24:$AG$36),1)
Name 责任金额: OFFSET(个人信息!$Z$24,,,COUNTA(个人信息!$Y$24:$Y$36),1)
Name 责任名称: OFFSET(个人信息!$Y$24,,,COUNTA(个人信息!$Y$24:$Y$36),1)
Name 终身寿险: OFFSET(家庭概览!$AC$11,,,家庭概览!$S$2,1)
Name 重大疾病: OFFSET(家庭概览!$AA$11,,,家庭概览!$S$2,1)

Sheet 家庭概览
O1: 其它成员 | P1: 其它成员 | Q1: 其它成员 | R1: 其它成员 | S1: 人员数量
O2: {=_xlfn.TOCOL(_xlfn._xlws.FILTER(保单录入!P3:P2024,保单录入!A3:A2024=S6),3)} -> 萧远山 | P2: {=IFERROR(_xlfn.UNIQUE(_xlfn.TOCOL(_xlfn.ANCHORARRAY(O2),3)),"暂无信息")} -> 萧远山 | Q2: {=_xlfn._xlws.FILTER(_xlfn.ANCHORARRAY(P2),(_xlfn.ANCHORARRAY(P2)<>0)*(_xlfn.ANCHORARRAY(P2)<>B5),"")} -> 萧远山 | R2: =IFERROR(IF(Q2<>0,Q2,""),"暂无记录") -> 萧远山 | S2: {=MAX(SUMPRODUCT(--(P2:P16<>"")),1)} -> 3 | T2: 年度保费总计
O3: 萧峰 | P3: 萧峰 | Q3: 阿朱 | R3: =IF(Q3<>0,Q3,"") -> 阿朱 | T3: =SUM(V18:V29) -> 5367020
O4: 萧峰 | P4: 阿朱 | R4: =IF(Q4<>0,Q4,"") | T4: 明年保费预期
B5: 萧峰 | O5: 萧峰 | R5: =IF(Q5<>0,Q5,"") | S5: 家庭标记 | T5: =T8+T11 -> 2367020
O6: 阿朱 | R6: =IF(Q6<>0,Q6,"") | S6: =_xlfn.XLOOKUP(B5,保单录入!$P$3:$P$2024,保单录入!$A$3:$A$2024,_xlfn.XLOOKUP(B5,保单录入!$A$3:$A$2024,保单录入!$A$3:$A$2024,"")) -> 萧峰 | T6: 固定长险费用
O7: 阿朱 | R7: =IF(Q7<>0,Q7,"") | T7: 重疾丨寿险丨理财
O8: 萧远山 | R8: =IF(Q8<>0,Q8,"") | T8: {=SUMPRODUCT(((保单录入!$A$3:$A$2024=家庭概览!$S$6)*(保单录入!$C$3:$C$2024<>"医疗险")*(保单录入!$C$3:$C$2024<>"意外伤害")*(保单录入!$C$3:$C$2024<>"意外医疗")*(保单录入!$C$3:$C$2024<>"其它")),保单录入!$AQ$3:$AQ$2024)} -> 2366000
O9: 阿朱 | R9: =IF(Q9<>0,Q9,"") | T9: 可能浮动费用 | AG9: ="家庭投入本金总计"&CHAR(10)&TEXT(SUM(AG11:AG19),"###,#") -> 家庭投入本金总计 18,500,000
O10: 阿朱 | R10: =IF(Q10<>0,Q10,"") | T10: 医疗丨意外 | W10: 姓名 | X10: 意外医疗 | Y10: 意外伤害 | Z10: 姓名 | AA10: 重大疾病 | AB10: 姓名 | AC10: 终身寿险 | AD10: 定期寿险 | AE10: 总寿险保额 | AF10: 理财姓名 | AG10: 理财型配置本金总和 | AJ10: 姓名 | AK10: 住院医疗
O11: 萧峰 | T11: {=SUMPRODUCT(((保单录入!$A$3:$A$2024=家庭概览!$S$6)*(保单录入!AG3:AG2024<>"已结束")*(保单录入!$C$3:$C$2024="医疗险")),保单录入!$F$3:$F$2024)+SUMPRODUCT(((保单录入!$A$3:$A$2024=家庭概览!$S$6)*(保单录入!AG3:AG2024<>"已结束")*(保单录入!$C$3:$C$2024="意外伤害")),保单录入!$F$3:$F$2024)+SUMPRODUCT(((保单录入!$A$3:$A$2024=家庭概览!$S$6)*(保单录入!AG3:AG2024<>"已结束")*(保单录入!$C$3:$C$2024="意外医疗")),保单录入!$F$3:$F$2024)+SUMPRODUCT(((保单录入!$A$3:$A$2024=家庭概览!$S$6)*(保单录入!AG3:AG2024<>"已结束")*(保单录入!$C$3:$C$2024="其它")),保单录入!$F$3:$F$2024)} -> 1020 | W11: =IF(AND(P2<>0,P2<>""),P2,"暂无信息") -> 萧远山 | X11: =IFERROR(SUMIFS(保单录入!$E$3:$E$2024,保单录入!$C$3:$C$2024,"意外医疗",保单录入!$P$3:$P$2024,家庭概览!$W11),0) -> 0 | Y11: =IFERROR(SUMIFS(保单录入!$E$3:$E$2024,保单录入!$C$3:$C$2024,"意外伤害",保单录入!$P$3:$P$2024,家庭概览!$W11),0) -> 0 | Z11: =IF(AND(P2<>0,P2<>""),P2,"") -> 萧远山 | AA11: =IFERROR(SUMIFS(保单录入!$E$3:$E$2024,保单录入!$C$3:$C$2024,"重疾险",保单录入!$P$3:$P$2024,家庭概览!$W11),0) -> 0 | AB11: =IF(AND(P2<>0,P2<>""),P2,"") -> 萧远山 | AC11: =IFERROR(SUMIFS(保单录入!$E$3:$E$2024,保单录入!$C$3:$C$2024,"终身寿险",保单录入!$P$3:$P$2024,家庭概览!$W11),0) -> 10000000 | AD11: =IFERROR(SUMIFS(保单录入!$E$3:$E$2024,保单录入!$C$3:$C$2024,"定期寿险",保单录入!$P$3:$P$2024,家庭概览!$W11),0) -> 0 | AE11: =IFERROR(IF(AD11<>0,AC11+AD11,0),0) -> 0 | AF11: =IF(AG11>0,W11,"") -> 萧远山 | AG11: =IFERROR(SUMIFS(保单录入!$AL$3:$AL$2024,保单录入!$AL$3:$AL$2024,"<>不适用",保单录入!$P$3:$P$2024,家庭概览!$W11),0) -> 1500000 | AH11: {=OFFSET($AF$11,,,SUMPRODUCT(($P$2:$P$8<>"")*1),1)} -> 萧远山 | AJ11: =IF(AND(P2<>0,P2<>""),P2,"") -> 萧远山 | AK11: =IFERROR(SUMIFS(保单录入!$E$3:$E$2024,保单录入!$C$3:$C$2024,"医疗险",保单录入!$P$3:$P$2024,家庭概览!$W11),0) -> 2000000
O12: 萧峰 | T12: 检视时间 | W12: =IF(AND(P3<>0,P3<>""),P3,"") -> 萧峰 | X12: =IFERROR(SUMIFS(保单录入!$E$3:$E$2024,保单录入!$C$3:$C$2024,"意外医疗",保单录入!$P$3:$P$2024,家庭概览!$W12),0) -> 30000 | Y12: =IFERROR(SUMIFS(保单录入!$E$3:$E$2024,保单录入!$C$3:$C$2024,"意外伤害",保单录入!$P$3:$P$2024,家庭概览!$W12),0) -> 500000 | Z12: =IF(AND(P3<>0,P3<>""),P3,"") -> 萧峰 | AA12: =IFERROR(SUMIFS(保单录入!$E$3:$E$2024,保单录入!$C$3:$C$2024,"重疾险",保单录入!$P$3:$P$2024,家庭概览!$W12),0) -> 1000000 | AB12: =IF(AND(P3<>0,P3<>""),P3,"") -> 萧峰 | AC12: =IFERROR(SUMIFS(保单录入!$E$3:$E$2024,保单录入!$C$3:$C$2024,"终身寿险",保单录入!$P$3:$P$2024,家庭概览!$W12),0) -> 5000000 | AD12: =IFERROR(SUMIFS(保单录入!$E$3:$E$2024,保单录入!$C$3:$C$2024,"定期寿险",保单录入!$P$3:$P$2024,家庭概览!$W12),0) -> 5000000 | AE12: =IFERROR(IF(AD12<>0,AC12+AD12,0),0) -> 10000000 | AF12: =IF(AG12>0,W12,"") -> 萧峰 | AG12: =IFERROR(SUMIFS(保单录入!$AL$3:$AL$2024,保单录入!$AL$3:$AL$2024,"<>不适用",保单录入!$P$3:$P$2024,家庭概览!$W12),0) -> 8000000 | AH12: 萧峰 | AJ12: =IF(AND(P3<>0,P3<>""),P3,"") -> 萧峰 | AK12: =IFERROR(SUMIFS(保单录入!$E$3:$E$2024,保单录入!$C$3:$C$2024,"医疗险",保单录入!$P$3:$P$2024,家庭概览!$W12),0) -> 2000000
O13: 萧峰 | T13: =TODAY() -> 45964 | W13: =IF(AND(P4<>0,P4<>""),P4,"") -> 阿朱 | X13: =IFERROR(SUMIFS(保单录入!$E$3:$E$2024,保单录入!$C$3:$C$2024,"意外医疗",保单录入!$P$3:$P$2024,家庭概览!$W13),0) -> 30000 | Y13: =IFERROR(SUMIFS(保单录入!$E$3:$E$2024,保单录入!$C$3:$C$2024,"意外伤害",保单录入!$P$3:$P$2024,家庭概览!$W13),0) -> 500000 | Z13: =IF(AND(P4<>0,P4<>""),P4,"") -> 阿朱 | AA13: =IFERROR(SUMIFS(保单录入!$E$3:$E$2024,保单录入!$C$3:$C$2024,"重疾险",保单录入!$P$3:$P$2024,家庭概览!$W13),0) -> 800000 | AB13: =IF(AND(P4<>0,P4<>""),P4,"") -> 阿朱 | AC13: =IFERROR(SUMIFS(保单录入!$E$3:$E$2024,保单录入!$C$3:$C$2024,"终身寿险",保单录入!$P$3:$P$2024,家庭概览!$W13),0) -> 0 | AD13: =IFERROR(SUMIFS(保单录入!$E$3:$E$2024,保单录入!$C$3:$C$2024,"定期寿险",保单录入!$P$3:$P$2024,家庭概览!$W13),0) -> 0 | AE13: =IFERROR(IF(AD13<>0,AC13+AD13,0),0) -> 0 | AF13: =IF(AG13>0,W13,"") -> 阿朱 | AG13: =IFERROR(SUMIFS(保单录入!$AL$3:$AL$2024,保单录入!$AL$3:$AL$2024,"<>不适用",保单录入!$P$3:$P$2024,家庭概览!$W13),0) -> 9000000 | AH13: 阿朱 | AJ13: =IF(AND(P4<>0,P4<>""),P4,"") -> 阿朱 | AK13: =IFERROR(SUMIFS(保单录入!$E$3:$E$2024,保单录入!$C$3:$C$2024,"医疗险",保单录入!$P$3:$P$2024,家庭概览!$W13),0) -> 0
O14: 萧远山 | W14: =IF(AND(P5<>0,P5<>""),P5,"") | X14: =IFERROR(SUMIFS(保单录入!$E$3:$E$2024,保单录入!$C$3:$C$2024,"意外医疗",保单录入!$P$3:$P$2024,家庭概览!$W14),0) -> 0 | Y14: =IFERROR(SUMIFS(保单录入!$E$3:$E$2024,保单录入!$C$3:$C$2024,"意外伤害",保单录入!$P$3:$P$2024,家庭概览!$W14),0) -> 0 | Z14: =IF(AND(P5<>0,P5<>""),P5,"") | AA14: =IFERROR(SUMIFS(保单录入!$E$3:$E$2024,保单录入!$C$3:$C$2024,"重疾险",保单录入!$P$3:$P$2024,家庭概览!$W14),0) -> 0 | AB14: =IF(AND(P5<>0,P5<>""),P5,"") | AC14: =IFERROR(SUMIFS(保单录入!$E$3:$E$2024,保单录入!$C$3:$C$2024,"终身寿险",保单录入!$P$3:$P$2024,家庭概览!$W14),0) -> 0 | AD14: =IFERROR(SUMIFS(保单录入!$E$3:$E$2024,保单录入!$C$3:$C$2024,"定期寿险",保单录入!$P$3:$P$2024,家庭概览!$W14),0) -> 0 | AE14: =IFERROR(IF(AD14<>0,AC14+AD14,0),0) -> 0 | AF14: =IF(AG14>0,W14,"") | AG14: =IFERROR(SUMIFS(保单录入!$AL$3:$AL$2024,保单录入!$AL$3:$AL$2024,"<>不适用",保单录入!$P$3:$P$2024,家庭概览!$W14),0) -> 0 | AJ14: =IF(AND(P5<>0,P5<>""),P5,"") | AK14: =IFERROR(SUMIFS(保单录入!$E$3:$E$2024,保单录入!$C$3:$C$2024,"医疗险",保单录入!$P$3:$P$2024,家庭概览!$W14),0) -> 0
C15: =IF(D15<>"",C14+1,"") | O15: 萧峰 | W15: =IF(AND(P6<>0,P6<>""),P6,"") | X15: =IFERROR(SUMIFS(保单录入!$E$3:$E$2024,保单录入!$C$3:$C$2024,"意外医疗",保单录入!$P$3:$P$2024,家庭概览!$W15),0) -> 0 | Y15: =IFERROR(SUMIFS(保单录入!$E$3:$E$2024,保单录入!$C$3:$C$2024,"意外伤害",保单录入!$P$3:$P$2024,家庭概览!$W15),0) -> 0 | Z15: =IF(AND(P6<>0,P6<>""),P6,"") | AA15: =IFERROR(SUMIFS(保单录入!$E$3:$E$2024,保单录入!$C$3:$C$2024,"重疾险",保单录入!$P$3:$P$2024,家庭概览!$W15),0) -> 0 | AB15: =IF(AND(P6<>0,P6<>""),P6,"") | AC15: =IFERROR(SUMIFS(保单录入!$E$3:$E$2024,保单录入!$C$3:$C$2024,"终身寿险",保单录入!$P$3:$P$2024,家庭概览!$W15),0) -> 0 | AD15: =IFERROR(SUMIFS(保单录入!$E$3:$E$2024,保单录入!$C$3:$C$2024,"定期寿险",保单录入!$P$3:$P$2024,家庭概览!$W15),0) -> 0 | AE15: =IFERROR(IF(AD15<>0,AC15+AD15,0),0) -> 0 | AF15: =IF(AG15>0,W15,"") | AG15: =IFERROR(SUMIFS(保单录入!$AL$3:$AL$2024,保单录入!$AL$3:$AL$2024,"<>不适用",保单录入!$P$3:$P$2024,家庭概览!$W15),0) -> 0 | AJ15: =IF(AND(P6<>0,P6<>""),P6,"") | AK15: =IFERROR(SUMIFS(保单录入!$E$3:$E$2024,保单录入!$C$3:$C$2024,"医疗险",保单录入!$P$3:$P$2024,家庭概览!$W15),0) -> 0
C16: =IF(D16<>"",C15+1,"") | O16: 萧峰 | W16: =IF(AND(P7<>0,P7<>""),P7,"") | X16: =IFERROR(SUMIFS(保单录入!$E$3:$E$2024,保单录入!$C$3:$C$2024,"意外医疗",保单录入!$P$3:$P$2024,家庭概览!$W16),0) -> 0 | Y16: =IFERROR(SUMIFS(保单录入!$E$3:$E$2024,保单录入!$C$3:$C$2024,"意外伤害",保单录入!$P$3:$P$2024,家庭概览!$W16),0) -> 0 | Z16: =IF(AND(P7<>0,P7<>""),P7,"") | AA16: =IFERROR(SUMIFS(保单录入!$E$3:$E$2024,保单录入!$C$3:$C$2024,"重疾险",保单录入!$P$3:$P$2024,家庭概览!$W16),0) -> 0 | AB16: =IF(AND(P7<>0,P7<>""),P7,"") | AC16: =IFERROR(SUMIFS(保单录入!$E$3:$E$2024,保单录入!$C$3:$C$2024,"终身寿险",保单录入!$P$3:$P$2024,家庭概览!$W16),0) -> 0 | AD16: =IFERROR(SUMIFS(保单录入!$E$3:$E$2024,保单录入!$C$3:$C$2024,"定期寿险",保单录入!$P$3:$P$2024,家庭概览!$W16),0) -> 0 | AE16: =IFERROR(IF(AD16<>0,AC16+AD16,0),0) -> 0 | AF16: =IF(AG16>0,W16,"") | AG16: =IFERROR(SUMIFS(保单录入!$AL$3:$AL$2024,保单录入!$AL$3:$AL$2024,"<>不适用",保单录入!$P$3:$P$2024,家庭概览!$W16),0) -> 0 | AJ16: =IF(AND(P7<>0,P7<>""),P7,"") | AK16: =IFERROR(SUMIFS(保单录入!$E$3:$E$2024,保单录入!$C$3:$C$2024,"医疗险",保单录入!$P$3:$P$2024,家庭概览!$W16),0) -> 0
C17: =IF(D17<>"",C16+1,"") | W17: =IF(AND(P8<>0,P8<>""),P8,"") | X17: =IFERROR(SUMIFS(保单录入!$E$3:$E$2024,保单录入!$C$3:$C$2024,"意外医疗",保单录入!$P$3:$P$2024,家庭概览!$W17),0) -> 0 | Y17: =IFERROR(SUMIFS(保单录入!$E$3:$E$2024,保单录入!$C$3:$C$2024,"意外伤害",保单录入!$P$3:$P$2024,家庭概览!$W17),0) -> 0 | Z17: =IF(AND(P8<>0,P8<>""),P8,"") | AA17: =IFERROR(SUMIFS(保单录入!$E$3:$E$2024,保单录入!$C$3:$C$2024,"重疾险",保单录入!$P$3:$P$2024,家庭概览!$W17),0) -> 0 | AB17: =IF(AND(P8<>0,P8<>""),P8,"") | AC17: =IFERROR(SUMIFS(保单录入!$E$3:$E$2024,保单录入!$C$3:$C$2024,"终身寿险",保单录入!$P$3:$P$2024,家庭概览!$W17),0) -> 0 | AD17: =IFERROR(SUMIFS(保单录入!$E$3:$E$2024,保单录入!$C$3:$C$2024,"定期寿险",保单录入!$P$3:$P$2024,家庭概览!$W17),0) -> 0 | AE17: =IFERROR(IF(AD17<>0,AC17+AD17,0),0) -> 0 | AF17: =IF(AG17>0,W17,"") | AG17: =IFERROR(SUMIFS(保单录入!$AL$3:$AL$2024,保单录入!$AL$3:$AL$2024,"<>不适用",保单录入!$P$3:$P$2024,家庭概览!$W17),0) -> 0 | AJ17: =IF(AND(P8<>0,P8<>""),P8,"") | AK17: =IFERROR(SUMIFS(保单录入!$E$3:$E$2024,保单录入!$C$3:$C$2024,"医疗险",保单录入!$P$3:$P$2024,家庭概览!$W17),0) -> 0
C18: =IF(D18<>"",C17+1,"") | Q18: {=_xlfn._xlws.FILTER(_xlfn.HSTACK(保单录入!$AK$3:$AK$2024,保单录入!$F$3:$F$2024),(保单录入!$AK$3:$AK$2024<>"不适用")*(保单录入!$A$3:$A$2024=$S$6),DATE(1990,1,1))} -> 45901 | R18: 300 | S18: =MONTH(Q18) -> 9 | T18: =SUMIF($S$18:$S$100,"=1",$R$18:$R$100) -> 230000 | U18: 1月 | V18: =IF(T18=0,"",T18) -> 230000 | W18: =IF(AND(P9<>0,P9<>""),P9,"") | X18: =IFERROR(SUMIFS(保单录入!$E$3:$E$2024,保单录入!$C$3:$C$2024,"意外医疗",保单录入!$P$3:$P$2024,家庭概览!$W18),0) -> 0 | Y18: =IFERROR(SUMIFS(保单录入!$E$3:$E$2024,保单录入!$C$3:$C$2024,"意外伤害",保单录入!$P$3:$P$2024,家庭概览!$W18),0) -> 0 | Z18: =IF(AND(P9<>0,P9<>""),P9,"") | AA18: =IFERROR(SUMIFS(保单录入!$E$3:$E$2024,保单录入!$C$3:$C$2024,"重疾险",保单录入!$P$3:$P$2024,家庭概览!$W18),0) -> 0 | AB18: =IF(AND(P9<>0,P9<>""),P9,"") | AC18: =IFERROR(SUMIFS(保单录入!$E$3:$E$2024,保单录入!$C$3:$C$2024,"终身寿险",保单录入!$P$3:$P$2024,家庭概览!$W18),0) -> 0 | AD18: =IFERROR(SUMIFS(保单录入!$E$3:$E$2024,保单录入!$C$3:$C$2024,"定期寿险",保单录入!$P$3:$P$2024,家庭概览!$W18),0) -> 0 | AE18: =IFERROR(IF(AD18<>0,AC18+AD18,0),0) -> 0 | AF18: =IF(AG18>0,W18,"") | AG18: =IFERROR(SUMIFS(保单录入!$AL$3:$AL$2024,保单录入!$AL$3:$AL$2024,"<>不适用",保单录入!$P$3:$P$2024,家庭概览!$W18),0) -> 0 | AJ18: =IF(AND(P9<>0,P9<>""),P9,"") | AK18: =IFERROR(SUMIFS(保单录入!$E$3:$E$2024,保单录入!$C$3:$C$2024,"医疗险",保单录入!$P$3:$P$2024,家庭概览!$W18),0) -> 0
C19: =IF(D19<>"",C18+1,"") | Q19: 45910 | R19: 1000000 | S19: =MONTH(Q19) -> 9 | T19: =SUMIF($S$18:$S$100,"=2",$R$18:$R$100) -> 0 | U19: 2月 | V19: =IF(T19=0,"",T19) | W19: =IF(AND(P10<>0,P10<>""),P10,"") | X19: =IFERROR(SUMIFS(保单录入!$E$3:$E$2024,保单录入!$C$3:$C$2024,"意外医疗",保单录入!$P$3:$P$2024,家庭概览!$W19),0) -> 0 | Y19: =IFERROR(SUMIFS(保单录入!$E$3:$E$2024,保单录入!$C$3:$C$2024,"意外伤害",保单录入!$P$3:$P$2024,家庭概览!$W19),0) -> 0 | Z19: =IF(AND(P10<>0,P10<>""),P10,"") | AA19: =IFERROR(SUMIFS(保单录入!$E$3:$E$2024,保单录入!$C$3:$C$2024,"重疾险",保单录入!$P$3:$P$2024,家庭概览!$W19),0) -> 0 | AB19: =IF(AND(P10<>0,P10<>""),P10,"") | AC19: =IFERROR(SUMIFS(保单录入!$E$3:$E$2024,保单录入!$C$3:$C$2024,"终身寿险",保单录入!$P$3:$P$2024,家庭概览!$W19),0) -> 0 | AD19: =IFERROR(SUMIFS(保单录入!$E$3:$E$2024,保单录入!$C$3:$C$2024,"定期寿险",保单录入!$P$3:$P$2024,家庭概览!$W19),0) -> 0 | AE19: =IFERROR(IF(AD19<>0,AC19+AD19,0),0) -> 0 | AF19: =IF(AG19>0,W19,"") | AG19: =IFERROR(SUMIFS(保单录入!$AL$3:$AL$2024,保单录入!$AL$3:$AL$2024,"<>不适用",保单录入!$P$3:$P$2024,家庭概览!$W19),0) -> 0 | AJ19: =IF(AND(P10<>0,P10<>""),P10,"") | AK19: =IFERROR(SUMIFS(保单录入!$E$3:$E$2024,保单录入!$C$3:$C$2024,"医疗险",保单录入!$P$3:$P$2024,家庭概览!$W19),0) -> 0
C20: =IF(D20<>"",C19+1,"") | Q20: 45929 | R20: 30000 | S20: =MONTH(Q20) -> 9 | T20: =SUMIF($S$18:$S$100,"=3",$R$18:$R$100) -> 0 | U20: 3月 | V20: =IF(T20=0,"",T20)
C21: =IF(D21<>"",C20+1,"") | Q21: 45868 | R21: 360 | S21: =MONTH(Q21) -> 7 | T21: =SUMIF($S$18:$S$100,"=4",$R$18:$R$100) -> 0 | U21: 4月 | V21: =IF(T21=0,"",T21)
C22: =IF(D22<>"",C21+1,"") | Q22: 45688 | R22: 200000 | S22: =MONTH(Q22) -> 1 | T22: =SUMIF($S$18:$S$100,"=5",$R$18:$R$100) -> 0 | U22: 5月 | V22: =IF(T22=0,"",T22)
C23: =IF(D23<>"",C22+1,"") | Q23: 45658 | R23: 30000 | S23: =MONTH(Q23) -> 1 | T23: =SUMIF($S$18:$S$100,"=6",$R$18:$R$100) -> 0 | U23: 6月 | V23: =IF(T23=0,"",T23)
C24: =IF(D24<>"",C23+1,"") | Q24: 45930 | R24: 3000000 | S24: =MONTH(Q24) -> 9 | T24: =SUMIF($S$18:$S$100,"=7",$R$18:$R$100) -> 360 | U24: 7月 | V24: =IF(T24=0,"",T24) -> 360
C25: =IF(D25<>"",C24+1,"") | Q25: 45925 | R25: 1000000 | S25: =MONTH(Q25) -> 9 | T25: =SUMIF($S$18:$S$100,"=8",$R$18:$R$100) -> 106000 | U25: 8月 | V25: =IF(T25=0,"",T25) -> 106000
C26: =IF(D26<>"",C25+1,"") | Q26: 45900 | R26: 100000 | S26: =MONTH(Q26) -> 8 | T26: =SUMIF($S$18:$S$100,"=9",$R$18:$R$100) -> 5030660 | U26: 9月 | V26: =IF(T26=0,"",T26) -> 5030660
C27: =IF(D27<>"",C26+1,"") | Q27: 45900 | R27: 6000 | S27: =MONTH(Q27) -> 8 | T27: =SUMIF($S$18:$S$100,"=10",$R$18:$R$100) -> 0 | U27: 10月 | V27: =IF(T27=0,"",T27)
C28: =IF(D28<>"",C27+1,"") | Q28: 45930 | R28: 360 | S28: =MONTH(Q28) -> 9 | T28: =SUMIF($S$18:$S$100,"=11",$R$18:$R$100) -> 0 | U28: 11月 | V28: =IF(T28=0,"",T28)
C29: =IF(D29<>"",C28+1,"") | S29: =MONTH(Q29) -> 1 | T29: =SUMIF($S$18:$S$100,"=12",$R$18:$R$100) -> 0 | U29: 12月 | V29: =IF(T29=0,"",T29) | AB29: 姓名 | AC29: 重大疾病 | AD29: 理财本金 | AE29: 意外伤害 | AF29: 意外医疗 | AG29: 医疗报销 | AH29: 终身寿险 | AI29: 定期寿险 | AJ29: 寿险总和
C30: =IF(D30<>"",C29+1,"") | S30: =MONTH(Q30) -> 1 | AB30: {=OFFSET($W$11,,,SUMPRODUCT(($P$2:$P$8<>"")*1),1)} -> 萧远山 | AC30: {=OFFSET($AA$11,,,SUMPRODUCT(($P$2:$P$8<>"")*1),1)} -> 0 | AD30: {=OFFSET($AG$11,,,SUMPRODUCT(($P$2:$P$8<>"")*1),1)} -> 1500000 | AE30: {=OFFSET($Y$11,,,SUMPRODUCT(($P$2:$P$8<>"")*1),1)} -> 0 | AF30: {=OFFSET($X$11,,,SUMPRODUCT(($P$2:$P$8<>"")*1),1)} -> 0 | AG30: {=OFFSET($AK$11,,,SUMPRODUCT(($P$2:$P$8<>"")*1),1)} -> 2000000 | AH30: {=OFFSET($AC$11,,,SUMPRODUCT(($P$2:$P$8<>"")*1),1)} -> 10000000 | AI30: {=OFFSET($AD$11,,,SUMPRODUCT(($P$2:$P$8<>"")*1),1)} -> 0 | AJ30: {=OFFSET($AE$11,,,SUMPRODUCT(($P$2:$P$8<>"")*1),1)} -> 0
C31: =IF(D31<>"",C30+1,"") | S31: =MONTH(Q31) -> 1 | AB31: 萧峰 | AC31: 1000000 | AD31: 8000000 | AE31: 500000 | AF31: 30000 | AG31: 2000000 | AH31: 5000000 | AI31: 5000000 | AJ31: 10000000
B32: =IF(D33<>"",C32+1,"") | C32: =IF(D32<>"",C31+1,"") | S32: =MONTH(Q32) -> 1 | AB32: 阿朱 | AC32: 800000 | AD32: 9000000 | AE32: 500000 | AF32: 30000 | AG32: 0 | AH32: 0 | AI32: 0 | AJ32: 0
S33: =MONTH(Q33) -> 1
S34: =MONTH(Q34) -> 1
S35: =MONTH(Q35) -> 1
S36: =MONTH(Q36) -> 1
S37: =MONTH(Q37) -> 1
S38: =MONTH(Q38) -> 1
S39: =MONTH(Q39) -> 1
S40: =MONTH(Q40) -> 1
S41: =MONTH(Q41) -> 1
S42: =MONTH(Q42) -> 1
S43: =MONTH(Q43) -> 1
S44: =MONTH(Q44) -> 1
... S100: =MONTH(Q100) -> 1

Sheet 个人信息
V1: =家庭概览!P2 -> 萧远山 | W1: {=_xlfn._xlws.FILTER(V1:V5,V1:V5<>0)} -> 萧远山 | X1: {=OFFSET(W1,,,COUNTA(W1:W5),)} -> 萧远山 | Z1: 医疗记录 | AA1: {=_xlfn.TEXTJOIN(";"&CHAR(10),TRUE,_xlfn._xlws.FILTER(保单录入!$W$3:$W$2024,保单录入!$P$3:$P$2024=个人信息!$B$5,""))} -> 聚贤庄上外皮组织损伤 | AB1: 基础信息
V2: =家庭概览!P3 -> 萧峰 | W2: 萧峰 | X2: 萧峰 | Z2: 理赔记录 | AA2: {=_xlfn.TEXTJOIN(";"&CHAR(10),TRUE,_xlfn._xlws.FILTER(保单录入!$X$3:$X$2024,保单录入!$P$3:$P$2024=个人信息!$B$5,""))} -> 2023住院报销5万 | AB2: =IF(I32="隐藏","****",_xlfn.XLOOKUP(B5,保单录入!$P$3:$P$2024,保单录入!$AH$3:$AH$2024)) -> 男
V3: =家庭概览!P4 -> 阿朱 | W3: 阿朱 | X3: 阿朱 | AB3: =IF(I32="隐藏","*****",_xlfn.XLOOKUP(B5,保单录入!$P$3:$P$2024,保单录入!$AJ$3:$AJ$2024)&"岁") -> 35岁
V4: =家庭概览!P5 -> 0 | AB4: =IF(I32="隐藏","****",IF(_xlfn.XLOOKUP(B5,保单录入!$P$3:$P$2024,保单录入!$Q$3:$Q$2024,"未记录")=0,"未记录",_xlfn.XLOOKUP(B5,保单录入!$P$3:$P$2024,保单录入!$Q$3:$Q$2024,"未记录"))) -> 13001666666
B5: 萧峰 | V5: =家庭概览!P6 -> 0 | AB5: ="保单相守"&V8&"载" -> 保单相守壹拾伍载
V7: 伴随年龄
V8: =NUMBERSTRING(_xlfn.XLOOKUP(B5,保单录入!$P$3:$P$2024,保单录入!$AJ$3:$AJ$2024)-MIN($K$14:$K$28),2) -> 壹拾伍
D13: 序号 | E13: 保单名称 | F13: 产品类型 | G13: 保险公司 | H13: 保额 | I13: 年缴保费 | J13: 缴费期含当年 保单生效日期 | K13: 生效时年龄 | L13: 投保人 | M13: 受益人 | V13: =B5 -> 萧峰 | X13: 笔记 | Y13: =_xlfn.TEXTJOIN("+",TRUE,X14:X28) -> 特别事宜百万医疗免赔额1万*+百万医疗*2000000+70岁保证领取*3000000+70岁预期领取*6000000+保单权益南宋旅居权益*+南宋外交豁免保单权益*+重症*1000000+中症*500000+轻症*300000+60岁后额外重疾*1000000+身故*1000000+特别事宜甲状腺免责*+【每年】70~80岁保证领取*250000+身故*10000000+70岁前身故额外*5000000+意外伤害*500000+意外医疗(猫抓狗咬)*30000+住院医疗*10000
D14: =IF(E14<>"",1,"") -> 1 | E14: =_xlfn.XLOOKUP(V14,保单录入!$AD$3:$AD$2024,保单录入!$D$3:$D$2024,"") -> 大辽e生 | F14: =_xlfn.XLOOKUP(V14,保单录入!$AD$3:$AD$2024,保单录入!$C$3:$C$2024,"") -> 医疗险 | G14: =IF(_xlfn.XLOOKUP(V14,保单录入!$AD$3:$AD$2024,保单录入!$B$3:$B$2024,"")=0,"",_xlfn.XLOOKUP(V14,保单录入!$AD$3:$AD$2024,保单录入!$B$3:$B$2024,"")) -> 大辽保险 | H14: =_xlfn.XLOOKUP(V14,保单录入!$AD$3:$AD$2024,保单录入!$E$3:$E$2024,"") -> 2000000 | I14: =_xlfn.XLOOKUP(V14,保单录入!$AD$3:$AD$2024,保单录入!$F$3:$F$2024,"") -> 300 | J14: =_xlfn.TEXTJOIN(CHAR(10),TRUE,_xlfn.XLOOKUP(V14,保单录入!$AD$3:$AD$2024,保单录入!$AG$3:$AG$2024,""),TEXT(_xlfn.XLOOKUP(V14,保单录入!$AD$3:$AD$2024,保单录入!$H$3:$H$2024,""),"yyyy/mm/dd")) -> 4/20 2022/09/01 | K14: =_xlfn.XLOOKUP(V14,保单录入!$AD$3:$AD$2024,保单录入!$AI$3:$AI$2024,"") -> 32 | L14: =_xlfn.XLOOKUP(V14,保单录入!$AD$3:$AD$2024,保单录入!$K$3:$K$2024,"") -> 萧峰 | M14: =IF(_xlfn.XLOOKUP(V14,保单录入!$AD$3:$AD$2024,保单录入!$S$3:$S$2024,"")=0,"",_xlfn.XLOOKUP(V14,保单录入!$AD$3:$AD$2024,保单录入!$S$3:$S$2024,"")) -> 阿朱 | V14: =$V$13&W14 -> 萧峰1 | W14: 1 | X14: =T(_xlfn.XLOOKUP(V14,保单录入!$AD$3:$AD$2024,保单录入!$Y$3:$Y$2024,"")) -> 特别事宜百万医疗免赔额1万*+百万医疗*2000000 | Y14: {=_xlfn.TEXTSPLIT(Y13,"+")} -> 特别事宜百万医疗免赔额1万* | Z14: 百万医疗*2000000 | AA14: 70岁保证领取*3000000 | AB14: 70岁预期领取*6000000 | AC14: 保单权益南宋旅居权益* | AD14: 南宋外交豁免保单权益* | AE14: 重症*1000000 | AF14: 中症*500000 | AG14: 轻症*300000 | AH14: 60岁后额外重疾*1000000 | AI14: 身故*1000000 | AJ14: 特别事宜甲状腺免责* | AK14: 【每年】70~80岁保证领取*250000 | AL14: 身故*10000000 | AM14: 70岁前身故额外*5000000 | AN14: 意外伤害*500000 | AO14: 意外医疗(猫抓狗咬)*30000 | AP14: 住院医疗*10000
D15: =IF(E15<>"",D14+1,"") -> 2 | E15: =_xlfn.XLOOKUP(V15,保单录入!$AD$3:$AD$2024,保单录入!$D$3:$D$2024,"") -> 南院尊 | F15: =_xlfn.XLOOKUP(V15,保单录入!$AD$3:$AD$2024,保单录入!$C$3:$C$2024,"") -> 增额终身寿 | G15: =IF(_xlfn.XLOOKUP(V15,保单录入!$AD$3:$AD$2024,保单录入!$B$3:$B$2024,"")=0,"",_xlfn.XLOOKUP(V15,保单录入!$AD$3:$AD$2024,保单录入!$B$3:$B$2024,"")) -> 大辽保险 | H15: =_xlfn.XLOOKUP(V15,保单录入!$AD$3:$AD$2024,保单录入!$E$3:$E$2024,"") -> 6666666 | I15: =_xlfn.XLOOKUP(V15,保单录入!$AD$3:$AD$2024,保单录入!$F$3:$F$2024,"") -> 1000000 | J15: =_xlfn.TEXTJOIN(CHAR(10),TRUE,_xlfn.XLOOKUP(V15,保单录入!$AD$3:$AD$2024,保单录入!$AG$3:$AG$2024,""),TEXT(_xlfn.XLOOKUP(V15,保单录入!$AD$3:$AD$2024,保单录入!$H$3:$H$2024,""),"yyyy/mm/dd")) -> 2/5 2024/09/10 | K15: =_xlfn.XLOOKUP(V15,保单录入!$AD$3:$AD$2024,保单录入!$AI$3:$AI$2024,"") -> 34 | L15: =_xlfn.XLOOKUP(V15,保单录入!$AD$3:$AD$2024,保单录入!$K$3:$K$2024,"") -> 萧峰 | M15: =IF(_xlfn.XLOOKUP(V15,保单录入!$AD$3:$AD$2024,保单录入!$S$3:$S$2024,"")=0,"",_xlfn.XLOOKUP(V15,保单录入!$AD$3:$AD$2024,保单录入!$S$3:$S$2024,"")) -> 阿朱 | V15: =$V$13&W15 -> 萧峰2 | W15: 2 | X15: =T(_xlfn.XLOOKUP(V15,保单录入!$AD$3:$AD$2024,保单录入!$Y$3:$Y$2024,"")) -> 70岁保证领取*3000000+70岁预期领取*6000000+保单权益南宋旅居权益*+南宋外交豁免保单权益* | Y15: {=_xlfn.MAP(_xlfn.ANCHORARRAY(Y14),_xlfn.LAMBDA(_xlpm.a,IFERROR(_xlfn.REGEXEXTRACT(_xlpm.a, ".*?(?=\d+(?!.*\d)$)|.*"),_xlpm.a)))} -> 特别事宜百万医疗免赔额1万* | Z15: 百万医疗* | AA15: 70岁保证领取* | AB15: 70岁预期领取* | AC15: 保单权益南宋旅居权益* | AD15: 南宋外交豁免保单权益* | AE15: 重症* | AF15: 中症* | AG15: 轻症* | AH15: 60岁后额外重疾* | AI15: 身故* | AJ15: 特别事宜甲状腺免责* | AK15: 【每年】70~80岁保证领取* | AL15: 身故* | AM15: 70岁前身故额外* | AN15: 意外伤害* | AO15: 意外医疗(猫抓狗咬)* | AP15: 住院医疗*
D16: =IF(E16<>"",D15+1,"") -> 3 | E16: =_xlfn.XLOOKUP(V16,保单录入!$AD$3:$AD$2024,保单录入!$D$3:$D$2024,"") -> 大辽无忧 | F16: =_xlfn.XLOOKUP(V16,保单录入!$AD$3:$AD$2024,保单录入!$C$3:$C$2024,"") -> 重疾险 | G16: =IF(_xlfn.XLOOKUP(V16,保单录入!$AD$3:$AD$2024,保单录入!$B$3:$B$2024,"")=0,"",_xlfn.XLOOKUP(V16,保单录入!$AD$3:$AD$2024,保单录入!$B$3:$B$2024,"")) -> 大辽保险 | H16: =_xlfn.XLOOKUP(V16,保单录入!$AD$3:$AD$2024,保单录入!$E$3:$E$2024,"") -> 1000000 | I16: =_xlfn.XLOOKUP(V16,保单录入!$AD$3:$AD$2024,保单录入!$F$3:$F$2024,"") -> 30000 | J16: =_xlfn.TEXTJOIN(CHAR(10),TRUE,_xlfn.XLOOKUP(V16,保单录入!$AD$3:$AD$2024,保单录入!$AG$3:$AG$2024,""),TEXT(_xlfn.XLOOKUP(V16,保单录入!$AD$3:$AD$2024,保单录入!$H$3:$H$2024,""),"yyyy/mm/dd")) -> 5/19 2021/09/29 | K16: =_xlfn.XLOOKUP(V16,保单录入!$AD$3:$AD$2024,保单录入!$AI$3:$AI$2024,"") -> 31 | L16: =_xlfn.XLOOKUP(V16,保单录入!$AD$3:$AD$2024,保单录入!$K$3:$K$2024,"") -> 萧峰 | M16: =IF(_xlfn.XLOOKUP(V16,保单录入!$AD$3:$AD$2024,保单录入!$S$3:$S$2024,"")=0,"",_xlfn.XLOOKUP(V16,保单录入!$AD$3:$AD$2024,保单录入!$S$3:$S$2024,"")) -> 阿朱 | V16: =$V$13&W16 -> 萧峰3 | W16: 3 | X16: =T(_xlfn.XLOOKUP(V16,保单录入!$AD$3:$AD$2024,保单录入!$Y$3:$Y$2024,"")) -> 重症*1000000+中症*500000+轻症*300000+60岁后额外重疾*1000000+身故*1000000+特别事宜甲状腺免责* | Y16: {=_xlfn.MAP(_xlfn.ANCHORARRAY(Y14),_xlfn.LAMBDA(_xlpm.a,VALUE(IFERROR(_xlfn.REGEXEXTRACT(_xlpm.a,"\d+(?!.*\d)$"),0))))} -> 0 | Z16: 2000000 | AA16: 3000000 | AB16: 6000000 | AC16: 0 | AD16: 0 | AE16: 1000000 | AF16: 500000 | AG16: 300000 | AH16: 1000000 | AI16: 1000000 | AJ16: 0 | AK16: 250000 | AL16: 10000000 | AM16: 5000000 | AN16: 500000 | AO16: 30000 | AP16: 10000
D17: =IF(E17<>"",D16+1,"") -> 4 | E17: =_xlfn.XLOOKUP(V17,保单录入!$AD$3:$AD$2024,保单录入!$D$3:$D$2024,"") -> 南院享 | F17: =_xlfn.XLOOKUP(V17,保单录入!$AD$3:$AD$2024,保单录入!$C$3:$C$2024,"") -> 年金保险 | G17: =IF(_xlfn.XLOOKUP(V17,保单录入!$AD$3:$AD$2024,保单录入!$B$3:$B$2024,"")=0,"",_xlfn.XLOOKUP(V17,保单录入!$AD$3:$AD$2024,保单录入!$B$3:$B$2024,"")) -> 大辽保险 | H17: =_xlfn.XLOOKUP(V17,保单录入!$AD$3:$AD$2024,保单录入!$E$3:$E$2024,"") -> 1888888 | I17: =_xlfn.XLOOKUP(V17,保单录入!$AD$3:$AD$2024,保单录入!$F$3:$F$2024,"") -> 1000000 | J17: =_xlfn.TEXTJOIN(CHAR(10),TRUE,_xlfn.XLOOKUP(V17,保单录入!$AD$3:$AD$2024,保单录入!$AG$3:$AG$2024,""),TEXT(_xlfn.XLOOKUP(V17,保单录入!$AD$3:$AD$2024,保单录入!$H$3:$H$2024,""),"yyyy/mm/dd")) -> 2/3 2024/09/25 | K17: =_xlfn.XLOOKUP(V17,保单录入!$AD$3:$AD$2024,保单录入!$AI$3:$AI$2024,"") -> 34 | L17: =_xlfn.XLOOKUP(V17,保单录入!$AD$3:$AD$2024,保单录入!$K$3:$K$2024,"") -> 萧峰 | M17: =IF(_xlfn.XLOOKUP(V17,保单录入!$AD$3:$AD$2024,保单录入!$S$3:$S$2024,"")=0,"",_xlfn.XLOOKUP(V17,保单录入!$AD$3:$AD$2024,保单录入!$S$3:$S$2024,"")) -> 阿朱 | V17: =$V$13&W17 -> 萧峰4 | W17: 4 | X17: =T(_xlfn.XLOOKUP(V17,保单录入!$AD$3:$AD$2024,保单录入!$Y$3:$Y$2024,"")) -> 【每年】70~80岁保证领取*250000 | Y17: {=_xlfn.UNIQUE(_xlfn.ANCHORARRAY(Y15),TRUE)} -> 特别事宜百万医疗免赔额1万* | Z17: 百万医疗* | AA17: 70岁保证领取* | AB17: 70岁预期领取* | AC17: 保单权益南宋旅居权益* | AD17: 南宋外交豁免保单权益* | AE17: 重症* | AF17: 中症* | AG17: 轻症* | AH17: 60岁后额外重疾* | AI17: 身故* | AJ17: 特别事宜甲状腺免责* | AK17: 【每年】70~80岁保证领取* | AL17: 70岁前身故额外* | AM17: 意外伤害* | AN17: 意外医疗(猫抓狗咬)* | AO17: 住院医疗*
D18: =IF(E18<>"",D17+1,"") -> 5 | E18: =_xlfn.XLOOKUP(V18,保单录入!$AD$3:$AD$2024,保单录入!$D$3:$D$2024,"") -> 大辽千万传承 | F18: =_xlfn.XLOOKUP(V18,保单录入!$AD$3:$AD$2024,保单录入!$C$3:$C$2024,"") -> 终身寿险 | G18: =IF(_xlfn.XLOOKUP(V18,保单录入!$AD$3:$AD$2024,保单录入!$B$3:$B$2024,"")=0,"",_xlfn.XLOOKUP(V18,保单录入!$AD$3:$AD$2024,保单录入!$B$3:$B$2024,"")) -> 契丹保险 | H18: =_xlfn.XLOOKUP(V18,保单录入!$AD$3:$AD$2024,保单录入!$E$3:$E$2024,"") -> 5000000 | I18: =_xlfn.XLOOKUP(V18,保单录入!$AD$3:$AD$2024,保单录入!$F$3:$F$2024,"") -> 100000 | J18: =_xlfn.TEXTJOIN(CHAR(10),TRUE,_xlfn.XLOOKUP(V18,保单录入!$AD$3:$AD$2024,保单录入!$AG$3:$AG$2024,""),TEXT(_xlfn.XLOOKUP(V18,保单录入!$AD$3:$AD$2024,保单录入!$H$3:$H$2024,""),"yyyy/mm/dd")) -> 16/20 2010/08/31 | K18: =_xlfn.XLOOKUP(V18,保单录入!$AD$3:$AD$2024,保单录入!$AI$3:$AI$2024,"") -> 20 | L18: =_xlfn.XLOOKUP(V18,保单录入!$AD$3:$AD$2024,保单录入!$K$3:$K$2024,"") -> 萧远山 | M18: =IF(_xlfn.XLOOKUP(V18,保单录入!$AD$3:$AD$2024,保单录入!$S$3:$S$2024,"")=0,"",_xlfn.XLOOKUP(V18,保单录入!$AD$3:$AD$2024,保单录入!$S$3:$S$2024,"")) -> 阿朱 | V18: =$V$13&W18 -> 萧峰5 | W18: 5 | X18: =T(_xlfn.XLOOKUP(V18,保单录入!$AD$3:$AD$2024,保单录入!$Y$3:$Y$2024,"")) -> 身故*10000000+70岁前身故额外*5000000 | Y18: {=_xlfn.MAP(_xlfn.ANCHORARRAY(Y17),_xlfn.LAMBDA(_xlpm.a,SUM(_xlfn._xlws.FILTER(_xlfn.ANCHORARRAY($Y$16),_xlfn.ANCHORARRAY($Y$15)=_xlpm.a))))} -> 0 | Z18: 2000000 | AA18: 3000000 | AB18: 6000000 | AC18: 0 | AD18: 0 | AE18: 1000000 | AF18: 500000 | AG18: 300000 | AH18: 1000000 | AI18: 11000000 | AJ18: 0 | AK18: 250000 | AL18: 5000000 | AM18: 500000 | AN18: 30000 | AO18: 10000
D19: =IF(E19<>"",D18+1,"") -> 6 | E19: =_xlfn.XLOOKUP(V19,保单录入!$AD$3:$AD$2024,保单录入!$D$3:$D$2024,"") -> 大辽守护保 | F19: =_xlfn.XLOOKUP(V19,保单录入!$AD$3:$AD$2024,保单录入!$C$3:$C$2024,"") -> 定期寿险 | G19: =IF(_xlfn.XLOOKUP(V19,保单录入!$AD$3:$AD$2024,保单录入!$B$3:$B$2024,"")=0,"",_xlfn.XLOOKUP(V19,保单录入!$AD$3:$AD$2024,保单录入!$B$3:$B$2024,"")) -> 大辽保险 | H19: =_xlfn.XLOOKUP(V19,保单录入!$AD$3:$AD$2024,保单录入!$E$3:$E$2024,"") -> 5000000 | I19: =_xlfn.XLOOKUP(V19,保单录入!$AD$3:$AD$2024,保单录入!$F$3:$F$2024,"") -> 6000 | J19: =_xlfn.TEXTJOIN(CHAR(10),TRUE,_xlfn.XLOOKUP(V19,保单录入!$AD$3:$AD$2024,保单录入!$AG$3:$AG$2024,""),TEXT(_xlfn.XLOOKUP(V19,保单录入!$AD$3:$AD$2024,保单录入!$H$3:$H$2024,""),"yyyy/mm/dd")) -> 16/20 2010/08/31 | K19: =_xlfn.XLOOKUP(V19,保单录入!$AD$3:$AD$2024,保单录入!$AI$3:$AI$2024,"") -> 20 | L19: =_xlfn.XLOOKUP(V19,保单录入!$AD$3:$AD$2024,保单录入!$K$3:$K$2024,"") -> 萧远山 | M19: =IF(_xlfn.XLOOKUP(V19,保单录入!$AD$3:$AD$2024,保单录入!$S$3:$S$2024,"")=0,"",_xlfn.XLOOKUP(V19,保单录入!$AD$3:$AD$2024,保单录入!$S$3:$S$2024,"")) -> 阿朱 | V19: =$V$13&W19 -> 萧峰6 | W19: 6 | X19: =T(_xlfn.XLOOKUP(V19,保单录入!$AD$3:$AD$2024,保单录入!$Y$3:$Y$2024,""))
D20: =IF(E20<>"",D19+1,"") -> 7 | E20: =_xlfn.XLOOKUP(V20,保单录入!$AD$3:$AD$2024,保单录入!$D$3:$D$2024,"") -> 大理安心行 | F20: =_xlfn.XLOOKUP(V20,保单录入!$AD$3:$AD$2024,保单录入!$C$3:$C$2024,"") -> 意外伤害 | G20: =IF(_xlfn.XLOOKUP(V20,保单录入!$AD$3:$AD$2024,保单录入!$B$3:$B$2024,"")=0,"",_xlfn.XLOOKUP(V20,保单录入!$AD$3:$AD$2024,保单录入!$B$3:$B$2024,"")) -> 大理互保 | H20: =_xlfn.XLOOKUP(V20,保单录入!$AD$3:$AD$2024,保单录入!$E$3:$E$2024,"") -> 500000 | I20: =_xlfn.XLOOKUP(V20,保单录入!$AD$3:$AD$2024,保单录入!$F$3:$F$2024,"") -> 360 | J20: =_xlfn.TEXTJOIN(CHAR(10),TRUE,_xlfn.XLOOKUP(V20,保单录入!$AD$3:$AD$2024,保单录入!$AG$3:$AG$2024,""),TEXT(_xlfn.XLOOKUP(V20,保单录入!$AD$3:$AD$2024,保单录入!$H$3:$H$2024,""),"yyyy/mm/dd")) -> 2/2 2024/09/30 | K20: =_xlfn.XLOOKUP(V20,保单录入!$AD$3:$AD$2024,保单录入!$AI$3:$AI$2024,"") -> 34 | L20: =_xlfn.XLOOKUP(V20,保单录入!$AD$3:$AD$2024,保单录入!$K$3:$K$2024,"") -> 萧峰 | M20: =IF(_xlfn.XLOOKUP(V20,保单录入!$AD$3:$AD$2024,保单录入!$S$3:$S$2024,"")=0,"",_xlfn.XLOOKUP(V20,保单录入!$AD$3:$AD$2024,保单录入!$S$3:$S$2024,"")) -> 阿朱 | V20: =$V$13&W20 -> 萧峰7 | W20: 7 | X20: =T(_xlfn.XLOOKUP(V20,保单录入!$AD$3:$AD$2024,保单录入!$Y$3:$Y$2024,"")) -> 意外伤害*500000
D21: =IF(E21<>"",D20+1,"") -> 8 | E21: =_xlfn.XLOOKUP(V21,保单录入!$AD$3:$AD$2024,保单录入!$D$3:$D$2024,"") -> 大理安心行 | F21: =_xlfn.XLOOKUP(V21,保单录入!$AD$3:$AD$2024,保单录入!$C$3:$C$2024,"") -> 意外医疗 | G21: =IF(_xlfn.XLOOKUP(V21,保单录入!$AD$3:$AD$2024,保单录入!$B$3:$B$2024,"")=0,"",_xlfn.XLOOKUP(V21,保单录入!$AD$3:$AD$2024,保单录入!$B$3:$B$2024,"")) -> 大理互保 | H21: =_xlfn.XLOOKUP(V21,保单录入!$AD$3:$AD$2024,保单录入!$E$3:$E$2024,"") -> 30000 | I21: =_xlfn.XLOOKUP(V21,保单录入!$AD$3:$AD$2024,保单录入!$F$3:$F$2024,"") -> 0 | J21: =_xlfn.TEXTJOIN(CHAR(10),TRUE,_xlfn.XLOOKUP(V21,保单录入!$AD$3:$AD$2024,保单录入!$AG$3:$AG$2024,""),TEXT(_xlfn.XLOOKUP(V21,保单录入!$AD$3:$AD$2024,保单录入!$H$3:$H$2024,""),"yyyy/mm/dd")) -> 已结束 2024/09/30 | K21: =_xlfn.XLOOKUP(V21,保单录入!$AD$3:$AD$2024,保单录入!$AI$3:$AI$2024,"") -> 34 | L21: =_xlfn.XLOOKUP(V21,保单录入!$AD$3:$AD$2024,保单录入!$K$3:$K$2024,"") -> 萧峰 | M21: =IF(_xlfn.XLOOKUP(V21,保单录入!$AD$3:$AD$2024,保单录入!$S$3:$S$2024,"")=0,"",_xlfn.XLOOKUP(V21,保单录入!$AD$3:$AD$2024,保单录入!$S$3:$S$2024,"")) -> 阿朱 | V21: =$V$13&W21 -> 萧峰8 | W21: 8 | X21: =T(_xlfn.XLOOKUP(V21,保单录入!$AD$3:$AD$2024,保单录入!$Y$3:$Y$2024,"")) -> 意外医疗(猫抓狗咬)*30000+住院医疗*10000 | Y21: 责任名称 | Z21: 责任金额
D22: =IF(E22<>"",D21+1,"") | E22: =_xlfn.XLOOKUP(V22,保单录入!$AD$3:$AD$2024,保单录入!$D$3:$D$2024,"") | F22: =_xlfn.XLOOKUP(V22,保单录入!$AD$3:$AD$2024,保单录入!$C$3:$C$2024,"") | G22: =IF(_xlfn.XLOOKUP(V22,保单录入!$AD$3:$AD$2024,保单录入!$B$3:$B$2024,"")=0,"",_xlfn.XLOOKUP(V22,保单录入!$AD$3:$AD$2024,保单录入!$B$3:$B$2024,"")) | H22: =_xlfn.XLOOKUP(V22,保单录入!$AD$3:$AD$2024,保单录入!$E$3:$E$2024,"") | I22: =_xlfn.XLOOKUP(V22,保单录入!$AD$3:$AD$2024,保单录入!$F$3:$F$2024,"") | J22: =_xlfn.TEXTJOIN(CHAR(10),TRUE,_xlfn.XLOOKUP(V22,保单录入!$AD$3:$AD$2024,保单录入!$AG$3:$AG$2024,""),TEXT(_xlfn.XLOOKUP(V22,保单录入!$AD$3:$AD$2024,保单录入!$H$3:$H$2024,""),"yyyy/mm/dd")) | K22: =_xlfn.XLOOKUP(V22,保单录入!$AD$3:$AD$2024,保单录入!$AI$3:$AI$2024,"") | L22: =_xlfn.XLOOKUP(V22,保单录入!$AD$3:$AD$2024,保单录入!$K$3:$K$2024,"") | M22: =IF(_xlfn.XLOOKUP(V22,保单录入!$AD$3:$AD$2024,保单录入!$S$3:$S$2024,"")=0,"",_xlfn.XLOOKUP(V22,保单录入!$AD$3:$AD$2024,保单录入!$S$3:$S$2024,"")) | V22: =$V$13&W22 -> 萧峰9 | W22: 9 | X22: =T(_xlfn.XLOOKUP(V22,保单录入!$AD$3:$AD$2024,保单录入!$Y$3:$Y$2024,"")) | Y22: ‘=OFFSET($Y$24,,,COUNTA($Y$24:$Y$36),1) | Z22: ’=OFFSET($Z$24,,,COUNTA($Y$24:$Y$36),1)
D23: =IF(E23<>"",D22+1,"") | E23: =_xlfn.XLOOKUP(V23,保单录入!$AD$3:$AD$2024,保单录入!$D$3:$D$2024,"") | F23: =_xlfn.XLOOKUP(V23,保单录入!$AD$3:$AD$2024,保单录入!$C$3:$C$2024,"") | G23: =IF(_xlfn.XLOOKUP(V23,保单录入!$AD$3:$AD$2024,保单录入!$B$3:$B$2024,"")=0,"",_xlfn.XLOOKUP(V23,保单录入!$AD$3:$AD$2024,保单录入!$B$3:$B$2024,"")) | H23: =_xlfn.XLOOKUP(V23,保单录入!$AD$3:$AD$2024,保单录入!$E$3:$E$2024,"") | I23: =_xlfn.XLOOKUP(V23,保单录入!$AD$3:$AD$2024,保单录入!$F$3:$F$2024,"") | J23: =_xlfn.TEXTJOIN(CHAR(10),TRUE,_xlfn.XLOOKUP(V23,保单录入!$AD$3:$AD$2024,保单录入!$AG$3:$AG$2024,""),TEXT(_xlfn.XLOOKUP(V23,保单录入!$AD$3:$AD$2024,保单录入!$H$3:$H$2024,""),"yyyy/mm/dd")) | K23: =_xlfn.XLOOKUP(V23,保单录入!$AD$3:$AD$2024,保单录入!$AI$3:$AI$2024,"") | L23: =_xlfn.XLOOKUP(V23,保单录入!$AD$3:$AD$2024,保单录入!$K$3:$K$2024,"") | M23: =IF(_xlfn.XLOOKUP(V23,保单录入!$AD$3:$AD$2024,保单录入!$S$3:$S$2024,"")=0,"",_xlfn.XLOOKUP(V23,保单录入!$AD$3:$AD$2024,保单录入!$S$3:$S$2024,"")) | V23: =$V$13&W23 -> 萧峰10 | W23: 10 | X23: =T(_xlfn.XLOOKUP(V23,保单录入!$AD$3:$AD$2024,保单录入!$Y$3:$Y$2024,"")) | Y23: 项目 | Z23: 金额 | AA23: 权益 | AB23: 项目 | AC23: 领取金额 | AD23: 项目 | AE23: 保证领取 | AF23: 预期领取 | AG23: 项目 | AH23: 保证领取 | AI23: 预期领取 | AJ23: 特别事宜 | AK23: 裁剪 | AL23: 聚合
D24: =IF(E24<>"",D23+1,"") | E24: =_xlfn.XLOOKUP(V24,保单录入!$AD$3:$AD$2024,保单录入!$D$3:$D$2024,"") | F24: =_xlfn.XLOOKUP(V24,保单录入!$AD$3:$AD$2024,保单录入!$C$3:$C$2024,"") | G24: =IF(_xlfn.XLOOKUP(V24,保单录入!$AD$3:$AD$2024,保单录入!$B$3:$B$2024,"")=0,"",_xlfn.XLOOKUP(V24,保单录入!$AD$3:$AD$2024,保单录入!$B$3:$B$2024,"")) | H24: =_xlfn.XLOOKUP(V24,保单录入!$AD$3:$AD$2024,保单录入!$E$3:$E$2024,"") | I24: =_xlfn.XLOOKUP(V24,保单录入!$AD$3:$AD$2024,保单录入!$F$3:$F$2024,"") | J24: =_xlfn.TEXTJOIN(CHAR(10),TRUE,_xlfn.XLOOKUP(V24,保单录入!$AD$3:$AD$2024,保单录入!$AG$3:$AG$2024,""),TEXT(_xlfn.XLOOKUP(V24,保单录入!$AD$3:$AD$2024,保单录入!$H$3:$H$2024,""),"yyyy/mm/dd")) | K24: =_xlfn.XLOOKUP(V24,保单录入!$AD$3:$AD$2024,保单录入!$AI$3:$AI$2024,"") | L24: =_xlfn.XLOOKUP(V24,保单录入!$AD$3:$AD$2024,保单录入!$K$3:$K$2024,"") | M24: =IF(_xlfn.XLOOKUP(V24,保单录入!$AD$3:$AD$2024,保单录入!$S$3:$S$2024,"")=0,"",_xlfn.XLOOKUP(V24,保单录入!$AD$3:$AD$2024,保单录入!$S$3:$S$2024,"")) | V24: =$V$13&W24 -> 萧峰11 | W24: 11 | X24: =T(_xlfn.XLOOKUP(V24,保单录入!$AD$3:$AD$2024,保单录入!$Y$3:$Y$2024,"")) | Y24: {=TRANSPOSE(_xlfn._xlws.FILTER(Y17:BA18,(Y18:BA18<>0)*NOT(ISNUMBER(SEARCH("保证领取",Y17:BA17)))*NOT(ISNUMBER(SEARCH("特别事宜",Y17:BA17)))*NOT(ISNUMBER(SEARCH("保单权益",Y17:BA17)))*NOT(ISNUMBER(SEARCH("预期领取",Y17:BA17)))))} -> 百万医疗* | Z24: 2000000 | AA24: {=_xlfn.MAP(TRANSPOSE(_xlfn._xlws.FILTER(_xlfn.ANCHORARRAY(Y17),(_xlfn.ANCHORARRAY(Y18)=0)*ISNUMBER(SEARCH("保单权益",_xlfn.ANCHORARRAY(Y17))),"")),_xlfn.LAMBDA(_xlpm.a,IFERROR(_xlfn.REGEXEXTRACT(_xlpm.a, "(?<=保单权益).*"), "")))} -> 南宋旅居权益* | AB24: {=TRANSPOSE(_xlfn._xlws.FILTER(_xlfn.ANCHORARRAY(Y17),ISNUMBER(SEARCH("保证领取",_xlfn.ANCHORARRAY(Y17)))+ISNUMBER(SEARCH("预期领取",_xlfn.ANCHORARRAY(Y17)))))} -> 70岁保证领取* | AC24: {=TRANSPOSE(_xlfn._xlws.FILTER(_xlfn.ANCHORARRAY(Y18),ISNUMBER(SEARCH("保证领取",_xlfn.ANCHORARRAY(Y17)))+ISNUMBER(SEARCH("预期领取",_xlfn.ANCHORARRAY(Y17)))))} -> 3000000 | AD24: {=_xlfn.MAP(_xlfn.ANCHORARRAY(AB24),_xlfn.LAMBDA(_xlpm.a,IFERROR(_xlfn.REGEXEXTRACT(_xlpm.a, ".*?(?=保证领取|预期领取)"),"")))} -> 70岁 | AE24: {=_xlfn.MAP(_xlfn.ANCHORARRAY(AB24),_xlfn.ANCHORARRAY(AC24),_xlfn.LAMBDA(_xlpm.a,_xlpm.b,IF(_xlpm.a="","",IF(ISNUMBER(SEARCH("保证领取",_xlpm.a)),_xlpm.b,""))))} -> 3000000 | AF24: {=_xlfn.MAP(_xlfn.ANCHORARRAY(AB24),_xlfn.ANCHORARRAY(AC24),_xlfn.LAMBDA(_xlpm.a,_xlpm.b,IF(_xlpm.a="","",IF(ISNUMBER(SEARCH("预期领取",_xlpm.a)),_xlpm.b,""))))} | AG24: {=_xlfn._xlws.SORT(OFFSET(AD24,,,SUM(--ISNUMBER(AE24:AF50)),3),1,1)} -> 【每年】70~80岁 | AH24: 250000 | AJ24: {=TRANSPOSE(_xlfn._xlws.FILTER(_xlfn.ANCHORARRAY(Y17),(_xlfn.ANCHORARRAY(Y18)=0)*ISNUMBER(SEARCH("特别事宜",_xlfn.ANCHORARRAY(Y17))),""))} -> 特别事宜百万医疗免赔额1万* | AK24: {=IF(AJ24="","","①")&IFERROR(_xlfn.REGEXEXTRACT(AJ24, "(?<=特别事宜).*"), "")} -> ①百万医疗免赔额1万* | AL24: =_xlfn.TEXTJOIN(CHAR(10),FALSE,AK24:AK36) -> ①百万医疗免赔额1万* ②甲状腺免责*
D25: =IF(E25<>"",D24+1,"") | E25: =_xlfn.XLOOKUP(V25,保单录入!$AD$3:$AD$2024,保单录入!$D$3:$D$2024,"") | F25: =_xlfn.XLOOKUP(V25,保单录入!$AD$3:$AD$2024,保单录入!$C$3:$C$2024,"") | G25: =IF(_xlfn.XLOOKUP(V25,保单录入!$AD$3:$AD$2024,保单录入!$B$3:$B$2024,"")=0,"",_xlfn.XLOOKUP(V25,保单录入!$AD$3:$AD$2024,保单录入!$B$3:$B$2024,"")) | H25: =_xlfn.XLOOKUP(V25,保单录入!$AD$3:$AD$2024,保单录入!$E$3:$E$2024,"") | I25: =_xlfn.XLOOKUP(V25,保单录入!$AD$3:$AD$2024,保单录入!$F$3:$F$2024,"") | J25: =_xlfn.TEXTJOIN(CHAR(10),TRUE,_xlfn.XLOOKUP(V25,保单录入!$AD$3:$AD$2024,保单录入!$AG$3:$AG$2024,""),TEXT(_xlfn.XLOOKUP(V25,保单录入!$AD$3:$AD$2024,保单录入!$H$3:$H$2024,""),"yyyy/mm/dd")) | K25: =_xlfn.XLOOKUP(V25,保单录入!$AD$3:$AD$2024,保单录入!$AI$3:$AI$2024,"") | L25: =_xlfn.XLOOKUP(V25,保单录入!$AD$3:$AD$2024,保单录入!$K$3:$K$2024,"") | M25: =IF(_xlfn.XLOOKUP(V25,保单录入!$AD$3:$AD$2024,保单录入!$S$3:$S$2024,"")=0,"",_xlfn.XLOOKUP(V25,保单录入!$AD$3:$AD$2024,保单录入!$S$3:$S$2024,"")) | V25: =$V$13&W25 -> 萧峰12 | W25: 12 | X25: =T(_xlfn.XLOOKUP(V25,保单录入!$AD$3:$AD$2024,保单录入!$Y$3:$Y$2024,"")) | Y25: 重症* | Z25: 1000000 | AA25: * | AB25: 70岁预期领取* | AC25: 6000000 | AD25: 70岁 | AF25: 6000000 | AG25: 70岁 | AH25: 3000000 | AJ25: 特别事宜甲状腺免责* | AK25: {=IF(AJ25="","","②")&IFERROR(_xlfn.REGEXEXTRACT(AJ25, "(?<=特别事宜).*"), "")} -> ②甲状腺免责*
D26: =IF(E26<>"",D25+1,"") | E26: =_xlfn.XLOOKUP(V26,保单录入!$AD$3:$AD$2024,保单录入!$D$3:$D$2024,"") | F26: =_xlfn.XLOOKUP(V26,保单录入!$AD$3:$AD$2024,保单录入!$C$3:$C$2024,"") | G26: =IF(_xlfn.XLOOKUP(V26,保单录入!$AD$3:$AD$2024,保单录入!$B$3:$B$2024,"")=0,"",_xlfn.XLOOKUP(V26,保单录入!$AD$3:$AD$2024,保单录入!$B$3:$B$2024,"")) | H26: =_xlfn.XLOOKUP(V26,保单录入!$AD$3:$AD$2024,保单录入!$E$3:$E$2024,"") | I26: =_xlfn.XLOOKUP(V26,保单录入!$AD$3:$AD$2024,保单录入!$F$3:$F$2024,"") | J26: =_xlfn.TEXTJOIN(CHAR(10),TRUE,_xlfn.XLOOKUP(V26,保单录入!$AD$3:$AD$2024,保单录入!$AG$3:$AG$2024,""),TEXT(_xlfn.XLOOKUP(V26,保单录入!$AD$3:$AD$2024,保单录入!$H$3:$H$2024,""),"yyyy/mm/dd")) | K26: =_xlfn.XLOOKUP(V26,保单录入!$AD$3:$AD$2024,保单录入!$AI$3:$AI$2024,"") | L26: =_xlfn.XLOOKUP(V26,保单录入!$AD$3:$AD$2024,保单录入!$K$3:$K$2024,"") | M26: =IF(_xlfn.XLOOKUP(V26,保单录入!$AD$3:$AD$2024,保单录入!$S$3:$S$2024,"")=0,"",_xlfn.XLOOKUP(V26,保单录入!$AD$3:$AD$2024,保单录入!$S$3:$S$2024,"")) | V26: =$V$13&W26 -> 萧峰13 | W26: 13 | X26: =T(_xlfn.XLOOKUP(V26,保单录入!$AD$3:$AD$2024,保单录入!$Y$3:$Y$2024,"")) | Y26: 中症* | Z26: 500000 | AB26: 【每年】70~80岁保证领取* | AC26: 250000 | AD26: 【每年】70~80岁 | AE26: 250000 | AG26: 70岁 | AI26: 6000000 | AK26: {=IF(AJ26="","","③")&IFERROR(_xlfn.REGEXEXTRACT(AJ26, "(?<=特别事宜).*"), "")}
D27: =IF(E27<>"",D26+1,"") | E27: =_xlfn.XLOOKUP(V27,保单录入!$AD$3:$AD$2024,保单录入!$D$3:$D$2024,"") | F27: =_xlfn.XLOOKUP(V27,保单录入!$AD$3:$AD$2024,保单录入!$C$3:$C$2024,"") | G27: =IF(_xlfn.XLOOKUP(V27,保单录入!$AD$3:$AD$2024,保单录入!$B$3:$B$2024,"")=0,"",_xlfn.XLOOKUP(V27,保单录入!$AD$3:$AD$2024,保单录入!$B$3:$B$2024,"")) | H27: =_xlfn.XLOOKUP(V27,保单录入!$AD$3:$AD$2024,保单录入!$E$3:$E$2024,"") | I27: =_xlfn.XLOOKUP(V27,保单录入!$AD$3:$AD$2024,保单录入!$F$3:$F$2024,"") | J27: =_xlfn.TEXTJOIN(CHAR(10),TRUE,_xlfn.XLOOKUP(V27,保单录入!$AD$3:$AD$2024,保单录入!$AG$3:$AG$2024,""),TEXT(_xlfn.XLOOKUP(V27,保单录入!$AD$3:$AD$2024,保单录入!$H$3:$H$2024,""),"yyyy/mm/dd")) | K27: =_xlfn.XLOOKUP(V27,保单录入!$AD$3:$AD$2024,保单录入!$AI$3:$AI$2024,"") | L27: =_xlfn.XLOOKUP(V27,保单录入!$AD$3:$AD$2024,保单录入!$K$3:$K$2024,"") | M27: =IF(_xlfn.XLOOKUP(V27,保单录入!$AD$3:$AD$2024,保单录入!$S$3:$S$2024,"")=0,"",_xlfn.XLOOKUP(V27,保单录入!$AD$3:$AD$2024,保单录入!$S$3:$S$2024,"")) | V27: =$V$13&W27 -> 萧峰14 | W27: 14 | X27: =T(_xlfn.XLOOKUP(V27,保单录入!$AD$3:$AD$2024,保单录入!$Y$3:$Y$2024,"")) | Y27: 轻症* | Z27: 300000 | AK27: {=IF(AJ27="","","④")&IFERROR(_xlfn.REGEXEXTRACT(AJ27, "(?<=特别事宜).*"), "")}
D28: =IF(E28<>"",D27+1,"") | E28: =_xlfn.XLOOKUP(V28,保单录入!$AD$3:$AD$2024,保单录入!$D$3:$D$2024,"") | F28: =_xlfn.XLOOKUP(V28,保单录入!$AD$3:$AD$2024,保单录入!$C$3:$C$2024,"") | G28: =IF(_xlfn.XLOOKUP(V28,保单录入!$AD$3:$AD$2024,保单录入!$B$3:$B$2024,"")=0,"",_xlfn.XLOOKUP(V28,保单录入!$AD$3:$AD$2024,保单录入!$B$3:$B$2024,"")) | H28: =_xlfn.XLOOKUP(V28,保单录入!$AD$3:$AD$2024,保单录入!$E$3:$E$2024,"") | I28: =_xlfn.XLOOKUP(V28,保单录入!$AD$3:$AD$2024,保单录入!$F$3:$F$2024,"") | J28: =_xlfn.TEXTJOIN(CHAR(10),TRUE,_xlfn.XLOOKUP(V28,保单录入!$AD$3:$AD$2024,保单录入!$AG$3:$AG$2024,""),TEXT(_xlfn.XLOOKUP(V28,保单录入!$AD$3:$AD$2024,保单录入!$H$3:$H$2024,""),"yyyy/mm/dd")) | K28: =_xlfn.XLOOKUP(V28,保单录入!$AD$3:$AD$2024,保单录入!$AI$3:$AI$2024,"") | L28: =_xlfn.XLOOKUP(V28,保单录入!$AD$3:$AD$2024,保单录入!$K$3:$K$2024,"") | M28: =IF(_xlfn.XLOOKUP(V28,保单录入!$AD$3:$AD$2024,保单录入!$S$3:$S$2024,"")=0,"",_xlfn.XLOOKUP(V28,保单录入!$AD$3:$AD$2024,保单录入!$S$3:$S$2024,"")) | V28: =$V$13&W28 -> 萧峰15 | W28: 15 | X28: =T(_xlfn.XLOOKUP(V28,保单录入!$AD$3:$AD$2024,保单录入!$Y$3:$Y$2024,"")) | Y28: 60岁后额外重疾* | Z28: 1000000 | AK28: {=IF(AJ28="","","⑤")&IFERROR(_xlfn.REGEXEXTRACT(AJ28, "(?<=特别事宜).*"), "")}
Y29: 身故* | Z29: 11000000 | AK29: {=IF(AJ29="","","⑥")&IFERROR(_xlfn.REGEXEXTRACT(AJ29, "(?<=特别事宜).*"), "")}
Y30: 70岁前身故额外* | Z30: 5000000 | AK30: {=IF(AJ30="","","⑦")&IFERROR(_xlfn.REGEXEXTRACT(AJ30, "(?<=特别事宜).*"), "")}
B31: 年度建议于下方书写 | I31: 是否隐藏基础信息 | Y31: 意外伤害* | Z31: 500000 | AK31: {=IF(AJ31="","","⑧")&IFERROR(_xlfn.REGEXEXTRACT(AJ31, "(?<=特别事宜).*"), "")}
I32: 否 | Y32: 意外医疗(猫抓狗咬)* | Z32: 30000 | AK32: {=IF(AJ32="","","⑨")&IFERROR(_xlfn.REGEXEXTRACT(AJ32, "(?<=特别事宜).*"), "")}
Y33: 住院医疗* | Z33: 10000 | AK33: {=IF(AJ33="","","⑩")&IFERROR(_xlfn.REGEXEXTRACT(AJ33, "(?<=特别事宜).*"), "")}

Sheet 到期提醒
B2: 即将进入缴费期的保单【临近保单缴费期15天-宽限期60天】 （宽限截止日仅供服务人员参考，请勿引导客户宽限期卡时间缴费，以免保单失效给客户造成不必要的损失） | L2: 生日提醒（近15天） | O2: 即将合同终止的保单（30天内即将到期）
B3: 投保人 | C3: 保单名称 | D3: 保费金额 | E3: 保单生效日期 | F3: 联系方式 | G3: 缴费银行 | H3: 银行账户 | I3: 缴费进度 | J3: 宽限截止日 | L3: 姓名 | M3: 日期 | O3: 投保人 | P3: 保单名称 | Q3: 保费金额 | R3: 保单生效日期 | S3: 联系方式 | T3: 缴费银行 | U3: 银行账户 | V3: 长险序列 | W3: 长险判断 | X3: 终止序列 | Y3: 终止判断
B4: {=_xlfn.LET(_xlpm.fanwei,_xlfn._xlws.FILTER(_xlfn.HSTACK(保单录入!$K$2:$K$10000,保单录入!$D$2:$D$10000,保单录入!$F$2:$F$10000,保单录入!$H$2:$H$10000,保单录入!$L$2:$L$10000,保单录入!$N$2:$N$10000,保单录入!$O$2:$O$10000,保单录入!$AG$2:$AG$10000,保单录入!$AR$2:$AR$10000),(保单录入!$AF$2:$AF$10000>=-60)*(保单录入!$AF$2:$AF$10000<=15),""),IFERROR(_xlfn._xlws.SORT(_xlfn._xlws.FILTER(_xlpm.fanwei,_xlfn.CHOOSECOLS(_xlpm.fanwei,1)<>0,""),4,1),"暂无"))} -> 段誉 | C4: 大理无忧 | D4: 100000 | E4: 44094 | F4: 12001 | G4: 大理商行 | H4: 020 | I4: 6/20 | J4: 45980 | L4: {=IFERROR(_xlfn._xlws.SORT(_xlfn.UNIQUE(_xlfn._xlws.FILTER(_xlfn.HSTACK(_xlfn.ANCHORARRAY(保单录入!AO3),_xlfn.ANCHORARRAY(保单录入!AP3)),(_xlfn.ANCHORARRAY(保单录入!AN3)<=0)*(_xlfn.ANCHORARRAY(保单录入!AN3)>=-15)),,TRUE),2,1,FALSE),"暂无")} -> 暂无 | O4: {=_xlfn.LET(_xlpm.array,_xlfn._xlws.FILTER(_xlfn.HSTACK(保单录入!$K$2:$K$10000,保单录入!$D$2:$D$10000,保单录入!$F$2:$F$10000,保单录入!$H$2:$H$10000,保单录入!$L$2:$L$10000,保单录入!$N$2:$N$10000,保单录入!$O$2:$O$10000),(保单录入!$AE$2:$AE$10000<=0)*(保单录入!$AE$2:$AE$10000>=-30)),IFERROR(_xlfn._xlws.SORT(_xlfn._xlws.FILTER(_xlpm.array,_xlfn.CHOOSECOLS(_xlpm.array,1)<>0),4,1),"暂无"))} -> 暂无 | V4: =IF(B4<>"",1,"") -> 1 | W4: =IFERROR(IF(ISEVEN(V4)=FALSE,0,1),0) -> 0 | X4: =IF(O4<>"",1,"") -> 1 | Y4: =IFERROR(IF(ISEVEN(X4)=FALSE,0,1),0) -> 0
B5: 段誉 | C5: 大理无忧 | D5: 0 | E5: 44094 | F5: 12001 | G5: 大理商行 | H5: 020 | I5: 6/20 | J5: 详见合同约定 | V5: =IF(B5<>"",V4+1,"") -> 2 | W5: =IFERROR(IF(ISEVEN(V5)=FALSE,0,1),0) -> 1 | X5: =IF(O5<>"",X4+1,"") | Y5: =IFERROR(IF(ISEVEN(X5)=FALSE,0,1),0) -> 0
B6: 段誉 | C6: 大理百万传承 | D6: 5000 | E6: 44094 | F6: 12001 | G6: 大理商行 | H6: 020 | I6: 6/20 | J6: 45980 | V6: =IF(B6<>"",V5+1,"") -> 3 | W6: =IFERROR(IF(ISEVEN(V6)=FALSE,0,1),0) -> 0 | X6: =IF(O6<>"",X5+1,"") | Y6: =IFERROR(IF(ISEVEN(X6)=FALSE,0,1),0) -> 0
B7: 段誉 | C7: 大理百万传承 | D7: 4500 | E7: 44094 | F7: 12001 | G7: 大理商行 | H7: 020 | I7: 6/20 | J7: 45980 | V7: =IF(B7<>"",V6+1,"") -> 4 | W7: =IFERROR(IF(ISEVEN(V7)=FALSE,0,1),0) -> 1 | X7: =IF(O7<>"",X6+1,"") | Y7: =IFERROR(IF(ISEVEN(X7)=FALSE,0,1),0) -> 0
B8: 段誉 | C8: 大理恒福 | D8: 9999 | E8: 44094 | F8: 12001 | G8: 大理商行 | H8: 020 | I8: 6/20 | J8: 45980 | V8: =IF(B8<>"",V7+1,"") -> 5 | W8: =IFERROR(IF(ISEVEN(V8)=FALSE,0,1),0) -> 0 | X8: =IF(O8<>"",X7+1,"") | Y8: =IFERROR(IF(ISEVEN(X8)=FALSE,0,1),0) -> 0
B9: 段正淳 | C9: 大理瑞享年年 | D9: 3000000 | E9: 45199 | F9: 12100 | G9: 大理商行 | H9: 021 | I9: 3/3 | J9: 45990 | V9: =IF(B9<>"",V8+1,"") -> 6 | W9: =IFERROR(IF(ISEVEN(V9)=FALSE,0,1),0) -> 1 | X9: =IF(O9<>"",X8+1,"") | Y9: =IFERROR(IF(ISEVEN(X9)=FALSE,0,1),0) -> 0
B10: 萧峰 | C10: 南院尊 | D10: 1000000 | E10: 45545 | F10: 13001 | G10: 大辽铁契 | H10: 001 | I10: 2/5 | J10: 45970 | V10: =IF(B10<>"",V9+1,"") -> 7 | W10: =IFERROR(IF(ISEVEN(V10)=FALSE,0,1),0) -> 0 | X10: =IF(O10<>"",X9+1,"") | Y10: =IFERROR(IF(ISEVEN(X10)=FALSE,0,1),0) -> 0
B11: 萧峰 | C11: 南院享 | D11: 1000000 | E11: 45560 | F11: 13001 | G11: 大辽铁契 | H11: 001 | I11: 2/3 | J11: 45985 | V11: =IF(B11<>"",V10+1,"") -> 8 | W11: =IFERROR(IF(ISEVEN(V11)=FALSE,0,1),0) -> 1 | X11: =IF(O11<>"",X10+1,"") | Y11: =IFERROR(IF(ISEVEN(X11)=FALSE,0,1),0) -> 0
B12: 萧峰 | C12: 大理安心行 | D12: 360 | E12: 45565 | F12: 13001 | G12: 大辽铁契 | H12: 001 | I12: 2/2 | J12: 详见合同约定 | V12: =IF(B12<>"",V11+1,"") -> 9 | W12: =IFERROR(IF(ISEVEN(V12)=FALSE,0,1),0) -> 0 | X12: =IF(O12<>"",X11+1,"") | Y12: =IFERROR(IF(ISEVEN(X12)=FALSE,0,1),0) -> 0
V13: =IF(B13<>"",V12+1,"") | W13: =IFERROR(IF(ISEVEN(V13)=FALSE,0,1),0) -> 0 | X13: =IF(O13<>"",X12+1,"") | Y13: =IFERROR(IF(ISEVEN(X13)=FALSE,0,1),0) -> 0
V14: =IF(B14<>"",V13+1,"") | W14: =IFERROR(IF(ISEVEN(V14)=FALSE,0,1),0) -> 0 | X14: =IF(O14<>"",X13+1,"") | Y14: =IFERROR(IF(ISEVEN(X14)=FALSE,0,1),0) -> 0
V15: =IF(B15<>"",V14+1,"") | W15: =IFERROR(IF(ISEVEN(V15)=FALSE,0,1),0) -> 0 | X15: =IF(O15<>"",X14+1,"") | Y15: =IFERROR(IF(ISEVEN(X15)=FALSE,0,1),0) -> 0
V16: =IF(B16<>"",V15+1,"") | W16: =IFERROR(IF(ISEVEN(V16)=FALSE,0,1),0) -> 0 | X16: =IF(O16<>"",X15+1,"") | Y16: =IFERROR(IF(ISEVEN(X16)=FALSE,0,1),0) -> 0
V17: =IF(B17<>"",V16+1,"") | W17: =IFERROR(IF(ISEVEN(V17)=FALSE,0,1),0) -> 0 | X17: =IF(O17<>"",X16+1,"") | Y17: =IFERROR(IF(ISEVEN(X17)=FALSE,0,1),0) -> 0
V18: =IF(B18<>"",V17+1,"") | W18: =IFERROR(IF(ISEVEN(V18)=FALSE,0,1),0) -> 0 | X18: =IF(O18<>"",X17+1,"") | Y18: =IFERROR(IF(ISEVEN(X18)=FALSE,0,1),0) -> 0
V19: =IF(B19<>"",V18+1,"") | W19: =IFERROR(IF(ISEVEN(V19)=FALSE,0,1),0) -> 0 | X19: =IF(O19<>"",X18+1,"") | Y19: =IFERROR(IF(ISEVEN(X19)=FALSE,0,1),0) -> 0
V20: =IF(B20<>"",V19+1,"") | W20: =IFERROR(IF(ISEVEN(V20)=FALSE,0,1),0) -> 0 | X20: =IF(O20<>"",X19+1,"") | Y20: =IFERROR(IF(ISEVEN(X20)=FALSE,0,1),0) -> 0
V21: =IF(B21<>"",V20+1,"") | W21: =IFERROR(IF(ISEVEN(V21)=FALSE,0,1),0) -> 0 | X21: =IF(O21<>"",X20+1,"") | Y21: =IFERROR(IF(ISEVEN(X21)=FALSE,0,1),0) -> 0
V22: =IF(B22<>"",V21+1,"") | W22: =IFERROR(IF(ISEVEN(V22)=FALSE,0,1),0) -> 0 | X22: =IF(O22<>"",X21+1,"") | Y22: =IFERROR(IF(ISEVEN(X22)=FALSE,0,1),0) -> 0
V23: =IF(B23<>"",V22+1,"") | W23: =IFERROR(IF(ISEVEN(V23)=FALSE,0,1),0) -> 0 | X23: =IF(O23<>"",X22+1,"") | Y23: =IFERROR(IF(ISEVEN(X23)=FALSE,0,1),0) -> 0
V24: =IF(B24<>"",V23+1,"") | W24: =IFERROR(IF(ISEVEN(V24)=FALSE,0,1),0) -> 0 | X24: =IF(O24<>"",X23+1,"") | Y24: =IFERROR(IF(ISEVEN(X24)=FALSE,0,1),0) -> 0
... V500: =IF(B500<>"",V499+1,"") | W500: =IFERROR(IF(ISEVEN(V500)=FALSE,0,1),0) -> 0 | X500: =IF(O500<>"",X499+1,"") | Y500: =IFERROR(IF(ISEVEN(X500)=FALSE,0,1),0) -> 0

Sheet 保单录入
Y1: 智能笔记自定义词条可在此记录： 重症+中症+轻症+身故 | AH1: count | AI1: =COUNTA(_xlfn.ANCHORARRAY(AD3)) -> 21 | AJ1: =YEAR(TODAY()) -> 2025 | AK1: =TODAY()-60 -> 45904 | AL1: =YEAR(TODAY())&"已缴费" -> 2025已缴费 | AM1: =YEAR(AK1)&"已缴费" -> 2025已缴费 | AS1: 名称 | AT1: 数量
A2: 家庭标记成员 | B2: 所属保险公司 | C2: 产品类型 | D2: 产品名称 | E2: 保额 | F2: 年缴保费 | G2: 保单编号 | H2: 保单生效日期 | I2: 缴费期限 | J2: 保单终止日期 | K2: 投保人姓名 | L2: 投保人手机 | M2: 投保人身份证号 | N2: 缴费银行 | O2: 银行账号 | P2: 被保人姓名 | Q2: 被保人手机 | R2: 被保人身份证号 | S2: 受益人姓名 | T2: 受益人手机 | U2: 受益人身份证号 | V2: 家庭地址 | W2: 医疗记录（实时更新） | X2: 理赔情况 | Y2: 保险智能笔记 使用字符"+"号作为不同项目间的连接符号 | Z2: 缴费确认 | AA2: 确认年份 | AC2: 模糊保单 | AD2: 🔗辅助列 | AE2: 保单终止提醒 | AF2: 保单续期提醒 | AG2: 缴费进度 | AH2: 性别 | AI2: 投保时年龄 | AJ2: 今年年龄 | AK2: 保单年度缴费 | AL2: 缴费总额 | AM2: 缴费确认 | AN2: 生日提醒 | AO2: 生日提醒 | AP2: 生日提醒 | AQ2: 次年缴费 | AR2: 宽限截止日 | AS2: 保单总量 | AT2: =COUNTA(_xlfn.UNIQUE(G3:G2024)) -> 9 | AU2: 唯一家庭
A3: 萧峰 | B3: 大辽保险 | C3: 医疗险 | D3: 大辽e生 | E3: 2000000 | F3: 1000 | G3: DLES000 | H3: 45292 | I3: 1 | J3: 73051 | K3: 萧峰 | L3: 13001 | M3: 420103199008082816 | N3: 大辽铁契 | O3: 001 | P3: 萧远山 | Q3: 13111 | R3: 420103196001012816 | S3: 萧峰 | T3: 13001 | Y3: 特别事宜百万医疗免赔额1万* | Z3: 已缴费 | AA3: 2024 | AC3: {=_xlfn.UNIQUE(_xlfn.TOCOL(_xlfn.TRIMRANGE(B3:B10000,2,0),3,FALSE),FALSE,FALSE)} -> 大辽保险 | AD3: {=_xlfn.LET(_xlpm.namesrange,_xlfn.TRIMRANGE($P$3:$P$10000,2,0),_xlfn.MAP(_xlpm.namesrange,_xlfn.LAMBDA(_xlpm.a, _xlpm.a&COUNTIF(P$3:INDEX(_xlpm.namesrange, ROWS(P$3:_xlpm.a)), _xlpm.a))))} -> 萧远山1 | AE3: {=_xlfn.MAP(_xlfn.TRIMRANGE(J3:J10000,2,0),_xlfn._xlws.FILTER(Z3:Z10000,AD3:AD10000<>"",""),_xlfn.LAMBDA(_xlpm.a,_xlpm.b,IFERROR(IF(_xlpm.b="合同已终止","已终止",_xlfn.DAYS(TODAY(),IF(_xlpm.a<>"",_xlpm.a,NA()))),"不适用")))} -> -27087 | AF3: {=_xlfn.LET(_xlpm.nextmoney,_xlfn.ANCHORARRAY(AG3),_xlpm.check,_xlfn.ANCHORARRAY(AM3),_xlpm.startyears,H3:INDEX(H3:H10000,AI1,),_xlpm.terminate,_xlfn.ANCHORARRAY(AE3),_xlfn.MAP(_xlpm.nextmoney,_xlpm.check,_xlpm.startyears,_xlpm.terminate,_xlfn.LAMBDA(_xlpm.a,_xlpm.b,_xlpm.c,_xlpm.d,IF(OR(_xlpm.b=$AM$1,_xlpm.b=$AL$1,_xlpm.a="已结束",YEAR(_xlpm.c)=$AJ$1,_xlpm.d="已终止"),"已结束",IFERROR(_xlfn.DAYS(DATE(YEAR(IF(MONTH(_xlpm.c)>=11,TODAY()-60,TODAY())),MONTH(_xlpm.c),DAY(_xlpm.c)),TODAY()),"已结束")))))} -> 已结束 | AG3: {=_xlfn.LET(_xlpm.terms,_xlfn.TRIMRANGE(I3:I10000,2,0),_xlpm.startyears,_xlfn.TRIMRANGE(H3:H10000,2,0),_xlfn.MAP(_xlpm.terms,_xlpm.startyears,_xlfn.LAMBDA(_xlpm.a,_xlpm.b,IFERROR(IF(_xlpm.a<=0,"已结束",IF(TODAY()-_xlpm.b>_xlpm.a*365,"已结束",VALUE(YEAR(TODAY()))+1-VALUE(YEAR(_xlpm.b))&"/"&_xlpm.a)),"已结束"))))} -> 已结束 | AH3: {=_xlfn.MAP(_xlfn.TRIMRANGE(保单录入!$R3:R10000,2,0),_xlfn.LAMBDA(_xlpm.a,IFERROR(IF(ISODD(MID(_xlpm.a,17,1))=TRUE,"男","女"),"请填写")))} -> 男 | AI3: {=_xlfn.MAP(_xlfn.TRIMRANGE(保单录入!$H3:H10000,2,0),_xlfn.TRIMRANGE(保单录入!$R3:R10000,2,0),_xlfn.LAMBDA(_xlpm.a,_xlpm.b,IFERROR(VALUE(YEAR(_xlpm.a))-VALUE(MID(_xlpm.b,7,4)),"请填写")))} -> 64 | AJ3: {=_xlfn.MAP(_xlfn.TRIMRANGE(保单录入!$R3:R10000,2,0),_xlfn.LAMBDA(_xlpm.a,IFERROR(VALUE(YEAR(TODAY()))-VALUE(MID(_xlpm.a,7,4)),"请填写")))} -> 65 | AK3: {=_xlfn.MAP(_xlfn.TRIMRANGE(保单录入!$H3:H10000,2,0),_xlfn.TRIMRANGE(保单录入!$I3:I10000,2,0),_xlfn.LAMBDA(_xlpm.a,_xlpm.b,IFERROR(IF(VALUE(YEAR(_xlpm.a))+VALUE(_xlpm.b)>VALUE(YEAR(TODAY())),DATE(YEAR(TODAY()),MONTH(_xlpm.a),DAY(_xlpm.a)),"不适用"),"不适用")))} -> 不适用 | AL3: {=_xlfn.MAP(_xlfn.TRIMRANGE(保单录入!$C3:C10000,2,0),_xlfn.TRIMRANGE(保单录入!$F3:F10000,2,0),_xlfn.TRIMRANGE(保单录入!$I3:I10000,2,0),_xlfn.LAMBDA(_xlpm.a,_xlpm.b,_xlpm.c,IFERROR(IF(OR(_xlpm.a="增额终身寿",_xlpm.a="年金保险",_xlpm.a="万能账户",_xlpm.a="投资连结险"),_xlpm.b*_xlpm.c,"不适用"),"不适用")))} -> 不适用 | AM3: {=_xlfn.MAP(_xlfn._xlws.FILTER(AA3:AA10000,AD3:AD10000<>"",""),_xlfn._xlws.FILTER(Z3:Z10000,AD3:AD10000<>"",""),_xlfn.LAMBDA(_xlpm.a,_xlpm.b,_xlfn.TEXTJOIN(,TRUE,_xlpm.a,_xlpm.b,)))} -> 2024已缴费 | AN3: {=_xlfn.MAP(_xlfn.ANCHORARRAY(AP3),_xlfn.LAMBDA(_xlpm.a,IFERROR(_xlfn.DAYS(TODAY(),DATE(YEAR(TODAY()),MONTH(DATE(2024,LEFT(_xlpm.a,2),1)),DAY(RIGHT(_xlpm.a,2)))),"不适用")))} -> 87 | AO3: {=_xlfn._xlws.FILTER(_xlfn.UNIQUE(_xlfn.VSTACK($K$3:$K$2024,$P$3:$P$2024)),_xlfn.UNIQUE(_xlfn.VSTACK($K$3:$K$2024,$P$3:$P$2024))<>0)} -> 萧峰 | AP3: {=_xlfn.LET(_xlpm.targer,_xlfn.ANCHORARRAY(AO3),_xlpm.namea,$K$3:$K$10000,_xlpm.nameb,$P$3:$P$10000,_xlpm.identitya,$M$3:$M$10000,_xlpm.identityb,$R$3:$R$10000,_xlfn.MAP(_xlpm.targer,_xlfn.LAMBDA(_xlpm.a,IFERROR(MID(_xlfn.XLOOKUP(_xlpm.a,_xlpm.namea,_xlpm.identitya,_xlfn.XLOOKUP(_xlpm.a,_xlpm.nameb,_xlpm.identityb)),11,4),""))))} -> 0808 | AQ3: {=_xlfn.BYROW(_xlfn._xlws.FILTER(_xlfn.HSTACK(AG3:AG10000,I3:I10000,F3:F10000),AD3:AD10000<>"",""),_xlfn.LAMBDA(_xlpm.row, IFERROR( IF(VALUE(LEFT(INDEX(_xlpm.row,1),FIND("/",INDEX(_xlpm.row,1))-1)) = INDEX(_xlpm.row,2),0,INDEX(_xlpm.row,3)),0)))} -> 0 | AR3: {=_xlfn.MAP(_xlfn._xlws.FILTER(C3:C10000,AD3:AD10000<>"",""),_xlfn._xlws.FILTER(AK3:AK10000,AD3:AD10000<>"",""),_xlfn.LAMBDA(_xlpm.a,_xlpm.b,IFERROR(IF(OR(_xlpm.a="重疾险",_xlpm.a="终身寿险",_xlpm.a="定期寿险",_xlpm.a="增额终身寿",_xlpm.a="年金保险"),_xlpm.b+60,"详见合同约定"),"详见合同约定")))} -> 详见合同约定 | AS3: 家庭总量 | AT3: =COUNTA(_xlfn.UNIQUE(A3:A2024)) -> 3 | AU3: {=_xlfn.TOCOL(_xlfn.UNIQUE(A3:A2024),3,FALSE)} -> 萧峰
A4: 萧峰 | B4: 大辽保险 | C4: 医疗险 | D4: 大辽e生 | E4: 2000000 | F4: 300 | G4: DLES001 | H4: 44805 | I4: 20 | J4: 51136 | K4: 萧峰 | L4: 13001 | M4: 420103199008082816 | N4: 大辽铁契 | O4: 001 | P4: 萧峰 | Q4: 13001666666 | R4: 420103199008082816 | S4: 阿朱 | T4: 13002 | V4: 小镜湖 | W4: 聚贤庄上外皮组织损伤 | X4: 2023住院报销5万 | Y4: 特别事宜百万医疗免赔额1万*+百万医疗*2000000 | AC4: 大理互保 | AD4: 萧峰1 | AE4: -5172 | AF4: -63 | AG4: 4/20 | AH4: 男 | AI4: 32 | AJ4: 35 | AK4: 45901 | AL4: 不适用 | AN4: 52 | AO4: 段正淳 | AP4: 0912 | AQ4: 300 | AR4: 详见合同约定 | AS4: 被保人数量 | AT4: =COUNTA(_xlfn.UNIQUE(P3:P2024)) -> 8 | AU4: 段誉
A5: 萧峰 | B5: 大辽保险 | C5: 增额终身寿 | D5: 南院尊 | E5: 6666666 | F5: 1000000 | G5: NYZ001 | H5: 45545 | I5: 5 | J5: 118340 | K5: 萧峰 | L5: 13001 | M5: 420103199008082816 | N5: 大辽铁契 | O5: 001 | P5: 萧峰 | Q5: 13001666666 | R5: 420103199008082816 | S5: 阿朱 | T5: 13002 | Y5: 70岁保证领取*3000000+70岁预期领取*6000000+保单权益南宋旅居权益*+南宋外交豁免保单权益* | AC5: 契丹保险 | AD5: 萧峰2 | AE5: -72376 | AF5: -54 | AG5: 2/5 | AH5: 男 | AI5: 34 | AJ5: 35 | AK5: 45910 | AL5: 5000000 | AN5: 306 | AO5: 萧远山 | AP5: 0101 | AQ5: 1000000 | AR5: 45970
A6: 萧峰 | B6: 大辽保险 | C6: 重疾险 | D6: 大辽无忧 | E6: 1000000 | F6: 30000 | G6: DLWY001 | H6: 44468 | I6: 19 | J6: 146099 | K6: 萧峰 | L6: 13001 | M6: 420103199008082816 | N6: 大辽铁契 | O6: 001 | P6: 萧峰 | Q6: 13001666666 | R6: 420103199008082816 | S6: 阿朱 | T6: 13002 | Y6: 重症*1000000+中症*500000+轻症*300000+60岁后额外重疾*1000000+身故*1000000+特别事宜甲状腺免责* | Z6: 合同已终止 | AD6: 萧峰3 | AE6: 已终止 | AF6: 已结束 | AG6: 5/19 | AH6: 男 | AI6: 31 | AJ6: 35 | AK6: 45929 | AL6: 不适用 | AM6: 合同已终止 | AN6: 46 | AO6: 段誉 | AP6: 0918 | AQ6: 30000 | AR6: 45989
A7: 萧峰 | B7: 大理互保 | C7: 意外伤害 | D7: 大理安心行 | E7: 500000 | F7: 360 | G7: DLAXX | H7: 45503 | I7: 2 | J7: 46325 | K7: 段正淳 | L7: 12100 | M7: 420103196509122816 | N7: 大理商行 | O7: 021 | P7: 阿朱 | Q7: 13002 | R7: 420103200012302826 | S7: 段正淳 | T7: 12100 | U7: 420103196510022816 | V7: 大理镇南王府 | Y7: 意外伤害*500000 | Z7: 已缴费 | AA7: 2024 | AD7: 阿朱1 | AE7: -361 | AF7: -96 | AG7: 2/2 | AH7: 女 | AI7: 24 | AJ7: 25 | AK7: 45868 | AL7: 不适用 | AM7: 2024已缴费 | AN7: -57 | AO7: 阿朱 | AP7: 1230 | AQ7: 0 | AR7: 详见合同约定
A8: 萧峰 | B8: 大理互保 | C8: 意外医疗 | D8: 大理安心行 | E8: 30000 | F8: 0 | G8: DLAXX | H8: 45565 | I8: 1 | J8: 45899 | K8: 段正淳 | L8: 12100 | M8: 420103196510122816 | N8: 大理商行 | O8: 021 | P8: 阿朱 | Q8: 13002 | R8: 420103200012302826 | S8: 段正淳 | T8: 12100 | U8: 420103196510022816 | Y8: 意外医疗(猫抓狗咬)*30000 | AD8: 阿朱2 | AE8: 65 | AF8: 已结束 | AG8: 已结束 | AH8: 女 | AI8: 24 | AJ8: 25 | AK8: 不适用 | AL8: 不适用 | AN8: 33 | AO8: 刀白凤 | AP8: 1001 | AQ8: 0 | AR8: 详见合同约定
A9: 萧峰 | B9: 大辽保险 | C9: 终身寿险 | D9: 大辽千万传承 | E9: 10000000 | F9: 200000 | G9: DLQWCC001 | H9: 45688 | I9: 20 | J9: 113469 | K9: 萧远山 | L9: 13100 | M9: 420103196001012816 | N9: 大辽铁契 | O9: 010 | P9: 萧远山 | Q9: 13111 | R9: 420103196001012816 | S9: 萧峰 | T9: 13001 | V9: 大宋少林寺藏经阁 | Y9: 身故*10000000+70岁前身故额外*5000000 | AD9: 萧远山2 | AE9: -67505 | AF9: 已结束 | AG9: 1/20 | AH9: 男 | AI9: 65 | AJ9: 65 | AK9: 45688 | AL9: 不适用 | AN9: 33 | AO9: 木婉清 | AP9: 1001 | AQ9: 200000 | AR9: 45748
AD10: 0 | AE10: 不适用 | AF10: 已结束 | AG10: 已结束 | AH10: 请填写 | AI10: 请填写 | AJ10: 请填写 | AK10: 不适用 | AL10: 不适用 | AN10: 33 | AO10: 钟灵 | AP10: 1001 | AQ10: 0 | AR10: 详见合同约定
A11: 段誉 | B11: 大理互保 | C11: 重疾险 | D11: 大理无忧 | E11: 600000 | F11: 100000 | G11: DLWY001 | H11: 44094 | I11: 20 | J11: 146099 | K11: 段誉 | L11: 12001 | M11: 420103197909182826 | N11: 大理商行 | O11: 020 | P11: 刀白凤 | Q11: 12101 | R11: 420103197910012826 | S11: 段誉 | T11: 12001 | U11: 420103199901012816 | V11: 大理镇南王府 | Y11: 重症*600000+轻症*180000 | AD11: 刀白凤1 | AE11: -100135 | AF11: -44 | AG11: 6/20 | AH11: 女 | AI11: 41 | AJ11: 46 | AK11: 45920 | AL11: 不适用 | AQ11: 100000 | AR11: 45980
A12: 段誉 | B12: 大理互保 | C12: 医疗险 | D12: 大理无忧 | E12: 600000 | F12: 0 | G12: DLWY001 | H12: 44094 | I12: 20 | J12: 146099 | K12: 段誉 | L12: 12001 | M12: 420103197909182826 | N12: 大理商行 | O12: 020 | P12: 刀白凤 | Q12: 12101 | R12: 420103197910012826 | S12: 段誉 | T12: 12001 | U12: 420103199901012816 | Y12: 身故*600000 | AD12: 刀白凤2 | AE12: -100135 | AF12: -44 | AG12: 6/20 | AH12: 女 | AI12: 41 | AJ12: 46 | AK12: 45920 | AL12: 不适用 | AQ12: 0 | AR12: 详见合同约定
A13: 萧峰 | B13: 大辽保险 | C13: 重疾险 | D13: 大辽无忧 | E13: 800000 | F13: 30000 | G13: DLWY001 | H13: 44562 | I13: 19 | J13: 146099 | K13: 萧峰 | L13: 13001 | M13: 420103199008082816 | N13: 大辽铁契 | O13: 001 | P13: 阿朱 | Q13: 13002 | R13: 420103200012302826 | S13: 萧峰 | T13: 13001 | U13: 420103199008082816 | V13: 大理镇南王府 | Y13: 重症*800000+中症*400000+轻症*240000+60岁后额外重疾*800000+身故*800000 | AD13: 阿朱3 | AE13: -100135 | AF13: -306 | AG13: 4/19 | AH13: 女 | AI13: 22 | AJ13: 25 | AK13: 45658 | AL13: 不适用 | AQ13: 30000 | AR13: 45718
A14: 萧峰 | B14: 大理互保 | C14: 年金保险 | D14: 大理瑞享年年 | E14: 1000000 | F14: 3000000 | G14: DLRXNN001 | H14: 45199 | I14: 3 | J14: 146099 | K14: 段正淳 | L14: 12100 | M14: 420103196510022816 | N14: 大理商行 | O14: 021 | P14: 阿朱 | Q14: 13002 | R14: 420103200012302826 | S14: 段正淳 | T14: 12100 | U14: 420103196510022816 | AD14: 阿朱4 | AE14: -100135 | AF14: -34 | AG14: 3/3 | AH14: 女 | AI14: 23 | AJ14: 25 | AK14: 45930 | AL14: 9000000 | AQ14: 0 | AR14: 45990
A15: 萧峰 | B15: 大辽保险 | C15: 年金保险 | D15: 南院享 | E15: 1888888 | F15: 1000000 | G15: NYX001 | H15: 45560 | I15: 3 | J15: 118340 | K15: 萧峰 | L15: 13001 | M15: 420103199008082816 | N15: 大辽铁契 | O15: 001 | P15: 萧峰 | Q15: 13001666666 | R15: 420103199008082816 | S15: 阿朱 | T15: 13002 | Y15: 【每年】70~80岁保证领取*250000 | AD15: 萧峰4 | AE15: -72376 | AF15: -39 | AG15: 2/3 | AH15: 男 | AI15: 34 | AJ15: 35 | AK15: 45925 | AL15: 3000000 | AQ15: 1000000 | AR15: 45985
A16: 段誉 | B16: 大理互保 | C16: 终身寿险 | D16: 大理百万传承 | E16: 500000 | F16: 5000 | G16: DLWY001 | H16: 44094 | I16: 20 | J16: 146099 | K16: 段誉 | L16: 12001 | M16: 420103197910012826 | N16: 大理商行 | O16: 020 | P16: 木婉清 | Q16: 12002 | R16: 420103200010012826 | S16: 段誉 | T16: 12001 | U16: 420103199901012816 | Y16: 身故*600000 | AD16: 木婉清1 | AE16: -100135 | AF16: -44 | AG16: 6/20 | AH16: 女 | AI16: 20 | AJ16: 25 | AK16: 45920 | AL16: 不适用 | AQ16: 5000 | AR16: 45980
A17: 段誉 | B17: 大理互保 | C17: 终身寿险 | D17: 大理百万传承 | E17: 500000 | F17: 4500 | G17: DLWY001 | H17: 44094 | I17: 20 | J17: 146099 | K17: 段誉 | L17: 12001 | M17: 420103197910012826 | N17: 大理商行 | O17: 020 | P17: 钟灵 | Q17: 12003 | R17: 420103200110012826 | S17: 段誉 | T17: 12001 | U17: 420103199901012816 | AD17: 钟灵1 | AE17: -100135 | AF17: -44 | AG17: 6/20 | AH17: 女 | AI17: 19 | AJ17: 24 | AK17: 45920 | AL17: 不适用 | AQ17: 4500 | AR17: 45980
A18: 段誉 | B18: 大理互保 | C18: 年金保险 | D18: 大理恒福 | E18: 1000000 | F18: 9999 | G18: DLWY001 | H18: 44094 | I18: 20 | J18: 146099 | K18: 段誉 | L18: 12001 | M18: 420103197910012826 | N18: 大理商行 | O18: 020 | P18: 段誉 | Q18: 12001 | R18: 420103197910012826 | S18: 刀白凤 | T18: 12101 | U18: 420103197910012826 | AD18: 段誉1 | AE18: -100135 | AF18: -44 | AG18: 6/20 | AH18: 女 | AI18: 41 | AJ18: 46 | AK18: 45920 | AL18: 199980 | AQ18: 9999 | AR18: 45980
A19: 萧峰 | B19: 契丹保险 | C19: 终身寿险 | D19: 大辽千万传承 | E19: 5000000 | F19: 100000 | G19: DLQWCC001 | H19: 40421 | I19: 20 | J19: 113469 | K19: 萧远山 | L19: 13100 | M19: 420103196001012816 | N19: 大辽铁契 | O19: 010 | P19: 萧峰 | Q19: 13001 | R19: 420103199008082816 | S19: 阿朱 | T19: 13002 | V19: 大宋少林寺藏经阁 | Y19: 身故*10000000+70岁前身故额外*5000000 | AD19: 萧峰5 | AE19: -67505 | AF19: -64 | AG19: 16/20 | AH19: 男 | AI19: 20 | AJ19: 35 | AK19: 45900 | AL19: 不适用 | AQ19: 100000 | AR19: 45960
A20: 萧峰 | B20: 大辽保险 | C20: 定期寿险 | D20: 大辽守护保 | E20: 5000000 | F20: 6000 | G20: DLQWCC001 | H20: 40421 | I20: 20 | J20: 113469 | K20: 萧远山 | L20: 13100 | M20: 420103196001012816 | N20: 大辽铁契 | O20: 010 | P20: 萧峰 | Q20: 13001 | R20: 420103199008082816 | S20: 阿朱 | AD20: 萧峰6 | AE20: -67505 | AF20: -64 | AG20: 16/20 | AH20: 男 | AI20: 20 | AJ20: 35 | AK20: 45900 | AL20: 不适用 | AQ20: 6000 | AR20: 45960
A21: 萧峰 | B21: 大辽保险 | C21: 增额终身寿 | D21: 南院尊 | E21: 1999999 | F21: 500000 | G21: NYZ001 | H21: 44835 | I21: 3 | J21: 118340 | K21: 萧远山 | L21: 13100 | M21: 420103196001012816 | N21: 大辽铁契 | O21: 001 | P21: 萧远山 | Q21: 13100 | R21: 420103196001012816 | S21: 阿朱 | T21: 13002 | Y21: 70岁保证领取*3000000+70岁预期领取*6000000+保单权益南宋旅居权益*+南宋保单权益外交豁免权 | AD21: 萧远山3 | AE21: -72376 | AF21: 已结束 | AG21: 已结束 | AH21: 男 | AI21: 62 | AJ21: 65 | AK21: 不适用 | AL21: 1500000 | AQ21: 0 | AR21: 详见合同约定
A22: 萧峰 | B22: 大理互保 | C22: 意外伤害 | D22: 大理安心行 | E22: 500000 | F22: 360 | G22: DLAXX | H22: 45565 | I22: 2 | J22: 45595 | K22: 萧峰 | L22: 13001 | M22: 420103199008082816 | N22: 大辽铁契 | O22: 001 | P22: 萧峰 | Q22: 13001666666 | R22: 420103199008082816 | S22: 阿朱 | T22: 13002 | V22: 大理镇南王府 | Y22: 意外伤害*500000 | AD22: 萧峰7 | AE22: 369 | AF22: -34 | AG22: 2/2 | AH22: 男 | AI22: 34 | AJ22: 35 | AK22: 45930 | AL22: 不适用 | AQ22: 0 | AR22: 详见合同约定
A23: 萧峰 | B23: 大理互保 | C23: 意外医疗 | D23: 大理安心行 | E23: 30000 | F23: 0 | G23: DLAXX | H23: 45565 | I23: 1 | J23: 45595 | K23: 萧峰 | L23: 13001 | M23: 420103199008082816 | N23: 大辽铁契 | O23: 001 | P23: 萧峰 | Q23: 13001666666 | R23: 420103199008082816 | S23: 阿朱 | T23: 13002 | Y23: 意外医疗(猫抓狗咬)*30000+住院医疗*10000 | AD23: 萧峰8 | AE23: 369 | AF23: 已结束 | AG23: 已结束 | AH23: 男 | AI23: 34 | AJ23: 35 | AK23: 不适用 | AL23: 不适用 | AQ23: 0 | AR23: 详见合同约定
